BEGIN:VCALENDAR
VERSION:2.0
PRODID:-//Marco Stroppa - ECPv6.15.14//NONSGML v1.0//EN
CALSCALE:GREGORIAN
METHOD:PUBLISH
X-WR-CALNAME:Marco Stroppa
X-ORIGINAL-URL:https://www.marcostroppa.eu
X-WR-CALDESC:Events for Marco Stroppa
REFRESH-INTERVAL;VALUE=DURATION:PT1H
X-Robots-Tag:noindex
X-PUBLISHED-TTL:PT1H
BEGIN:VTIMEZONE
TZID:Europe/Rome
BEGIN:DAYLIGHT
TZOFFSETFROM:+0100
TZOFFSETTO:+0200
TZNAME:CEST
DTSTART:20240331T010000
END:DAYLIGHT
BEGIN:STANDARD
TZOFFSETFROM:+0200
TZOFFSETTO:+0100
TZNAME:CET
DTSTART:20241027T010000
END:STANDARD
BEGIN:DAYLIGHT
TZOFFSETFROM:+0100
TZOFFSETTO:+0200
TZNAME:CEST
DTSTART:20250330T010000
END:DAYLIGHT
BEGIN:STANDARD
TZOFFSETFROM:+0200
TZOFFSETTO:+0100
TZNAME:CET
DTSTART:20251026T010000
END:STANDARD
BEGIN:DAYLIGHT
TZOFFSETFROM:+0100
TZOFFSETTO:+0200
TZNAME:CEST
DTSTART:20260329T010000
END:DAYLIGHT
BEGIN:STANDARD
TZOFFSETFROM:+0200
TZOFFSETTO:+0100
TZNAME:CET
DTSTART:20261025T010000
END:STANDARD
END:VTIMEZONE
BEGIN:VEVENT
DTSTART;TZID=Europe/Rome:20251201T203000
DTEND;TZID=Europe/Rome:20251201T223000
DTSTAMP:20260422T141734
CREATED:20251122T183305Z
LAST-MODIFIED:20251122T183445Z
UID:10000079-1764621000-1764628200@www.marcostroppa.eu
SUMMARY:Fondazione Prometeo - Little i (2025)
DESCRIPTION:Little i\, for flute and chamber electronics \n  \n\n\n\nOther works by Bach\, Debussy\, Varèse\, Saariaho \n  \nGiulio Francesconi\, flute \nMarco Stroppa\, sound projection \n  \nFondazione Prometeo – Casa della Musica \nPiazzale San Francesco\, 1\, Parma \n\n\n\n 
URL:https://www.marcostroppa.eu/event/fondazione-prometeo-little-i-2025/
LOCATION:Casa della Musica\, Piazzale San Francesco\, 1\, Parma\, Parma\, 43121\, Italy
CATEGORIES:Concert
END:VEVENT
BEGIN:VEVENT
DTSTART;TZID=Europe/Rome:20251201T180000
DTEND;TZID=Europe/Rome:20251201T200000
DTSTAMP:20260422T141734
CREATED:20251122T182808Z
LAST-MODIFIED:20251122T182823Z
UID:10000078-1764612000-1764619200@www.marcostroppa.eu
SUMMARY:Il controllo compositivo della sintesi del suono - Fondazione Prometeo
DESCRIPTION:Conference “Il controllo compositivo della sintesi del suono: prospettive e prossime sfide” \n\nNel mondo della musica strumentale\, i ruoli del compositore e dello strumentista sono distinti. Con la musica elettronica\, invece\, è difficile separare dove finisce la composizione e dove comincia lo strumento. A partire dall’inizio del XXI secolo\, l’accelerazione della memoria e della velocità di calcolo hanno permesso il trattamento di quantità sempre più grandi di dati\, obbligando il compositore ad adottare strategie di controllo diverse da quelle utilizzate per la musica strumentale. Stroppa presenterà alcune di queste strategie che furono implementate in una libreria informatica (OMChroma) nell’ambiente di programmazione grafica OpenMusic. \n\n“MUSICA E FUTURO” Concerti e conferenze 12.11.2025 / 07.12.2025 \nFondazione Prometeo – La Casa della Musica\, Parma
URL:https://www.marcostroppa.eu/event/il-controllo-compositivo-della-sintesi-del-suono-la-casa-della-musica/
LOCATION:Casa della Musica\, Piazzale San Francesco\, 1\, Parma\, Parma\, 43121\, Italy
CATEGORIES:Conference
END:VEVENT
END:VCALENDAR