BEGIN:VCALENDAR
VERSION:2.0
PRODID:-//Marco Stroppa - ECPv6.15.14//NONSGML v1.0//EN
CALSCALE:GREGORIAN
METHOD:PUBLISH
X-ORIGINAL-URL:https://www.marcostroppa.eu
X-WR-CALDESC:Events for Marco Stroppa
REFRESH-INTERVAL;VALUE=DURATION:PT1H
X-Robots-Tag:noindex
X-PUBLISHED-TTL:PT1H
BEGIN:VTIMEZONE
TZID:Europe/Rome
BEGIN:DAYLIGHT
TZOFFSETFROM:+0100
TZOFFSETTO:+0200
TZNAME:CEST
DTSTART:20240331T010000
END:DAYLIGHT
BEGIN:STANDARD
TZOFFSETFROM:+0200
TZOFFSETTO:+0100
TZNAME:CET
DTSTART:20241027T010000
END:STANDARD
BEGIN:DAYLIGHT
TZOFFSETFROM:+0100
TZOFFSETTO:+0200
TZNAME:CEST
DTSTART:20250330T010000
END:DAYLIGHT
BEGIN:STANDARD
TZOFFSETFROM:+0200
TZOFFSETTO:+0100
TZNAME:CET
DTSTART:20251026T010000
END:STANDARD
BEGIN:DAYLIGHT
TZOFFSETFROM:+0100
TZOFFSETTO:+0200
TZNAME:CEST
DTSTART:20260329T010000
END:DAYLIGHT
BEGIN:STANDARD
TZOFFSETFROM:+0200
TZOFFSETTO:+0100
TZNAME:CET
DTSTART:20261025T010000
END:STANDARD
END:VTIMEZONE
BEGIN:VEVENT
DTSTART;TZID=Europe/Rome:20250906T160000
DTEND;TZID=Europe/Rome:20250906T180000
DTSTAMP:20260422T142021
CREATED:20250119T103019Z
LAST-MODIFIED:20250709T112013Z
UID:10000058-1757174400-1757181600@www.marcostroppa.eu
SUMMARY:Lucerne Festival\, Summer Festival 2025 - Osja
DESCRIPTION:Osja. Seven Strophes for a Literary Drone for violin\, cello and piano\n  \nOther works by Pierre Boulez\, Francesca Verunelli \n  \nEnsemble Helix/Studio for Contemporary Music at the Hochschule Luzern – Musik \n  \nPortrait Boulez & Stroppa 2 \nLucerne Festival\, Summer Spring Festival \nKKL Luzern\, Lucerne Hall
URL:https://www.marcostroppa.eu/event/lucerne-festival-summer-festival-2025-osja/
LOCATION:KKL Luzern\, Lucerne Hall\, Hirschmattstrasse 13\, Lucerne\, 6002\, Switzerland
CATEGORIES:Concert
ATTACH;FMTTYPE=image/jpeg:https://www.marcostroppa.eu/wp-content/uploads/2025/01/image008.jpg
END:VEVENT
BEGIN:VEVENT
DTSTART;TZID=Europe/Rome:20250831T160000
DTEND;TZID=Europe/Rome:20250831T170000
DTSTAMP:20260422T142021
CREATED:20250118T155921Z
LAST-MODIFIED:20250709T111411Z
UID:10000057-1756656000-1756659600@www.marcostroppa.eu
SUMMARY:Lucerne Festival\, Summer Festival 2025 - Boulez\, Poésie pour pouvoir
DESCRIPTION:Pierre Boulez (1925–2016)\nPoésie pour pouvoir for tape and three orchestras\n\n  \nCommission to reconstruct the electronics by Lucerne Festival in coproduction with IRCAM-Centre Pompidou and with support from the Ernst von Siemens Music Foundation Reconstruction and interpretation in the studios of IRCAM-Centre Pompidou by Marco Stroppa and Carlo Laurenzi\nRecorded voice: Yann Boudaud\nIntroduction with musical examples\, recording of the world premiere\, and live performance with new tape\n\n  \nEnsemble of the Lucerne Festival Contemporary Orchestra (LFCO) \nDavid Robertson\, conductor \nParticipants in the Contemporary- Conducting Program conductors \nMarco Stroppa (sound projection) – IRCAM Production Team (Carlo Laurenzi\, Luca Bagnoli) \n  \n  \nPierre Boulez Workshop \nLucerne Festival\, Summer Spring Festival \nKKL Luzern\, Lucerne Hall
URL:https://www.marcostroppa.eu/event/lucerne-festival-summer-festival-2025-boulez-poesie-pour-pouvoir/
LOCATION:KKL Luzern\, Lucerne Hall\, Hirschmattstrasse 13\, Lucerne\, 6002\, Switzerland
CATEGORIES:Concert
ATTACH;FMTTYPE=image/jpeg:https://www.marcostroppa.eu/wp-content/uploads/2025/01/image008.jpg
END:VEVENT
BEGIN:VEVENT
DTSTART;TZID=Europe/Rome:20250830T210000
DTEND;TZID=Europe/Rome:20250830T220000
DTSTAMP:20260422T142021
CREATED:20250118T155038Z
LAST-MODIFIED:20250709T111719Z
UID:10000056-1756587600-1756591200@www.marcostroppa.eu
SUMMARY:Lucerne Festival\, Summer Festival 2025 - Come Play with me
DESCRIPTION:Introduction to the concert\nMarco Stroppa in conversation with Mark Sattler (in English)\n  \nCome Play with me\, for solo electronics and orchestra (world premiere of the new version)\n  \nOther works by Pierre Boulez \n  \nEnsemble of the Lucerne Festival Contemporary Orchestra (LFCO) \nDavid Robertson\, conductor \nParticipants in the Contemporary- Conducting Program conductors \nMarco Stroppa (sound projection) – IRCAM Production Team \n  \n  \nLucerne Festival Academy 4 \nLucerne Festival\, Summer Spring Festival \nKKL Luzern\, Lucerne Hall
URL:https://www.marcostroppa.eu/event/lucerne-festival-summer-festival-2025-come-play-with-me/
LOCATION:KKL Luzern\, Lucerne Hall\, Hirschmattstrasse 13\, Lucerne\, 6002\, Switzerland
CATEGORIES:Concert,Conference
ATTACH;FMTTYPE=image/jpeg:https://www.marcostroppa.eu/wp-content/uploads/2025/01/image008.jpg
END:VEVENT
BEGIN:VEVENT
DTSTART;TZID=Europe/Rome:20250823T200000
DTEND;TZID=Europe/Rome:20250823T220000
DTSTAMP:20260422T142021
CREATED:20250118T154634Z
LAST-MODIFIED:20250709T111849Z
UID:10000055-1755979200-1755986400@www.marcostroppa.eu
SUMMARY:Lucerne Festival\, Summer Festival 2025 - New Work for accordion and electro-acoustic totem
DESCRIPTION:Introduction to the Concert\nThe composers in conversation with Mark Sattler (in English | KKL Luzern\, Lucerne Hall)\n  \nNew work for accordion and electro-acoustic totem (world premiere)\ncommissioned by Lucerne Festival with support from the Fondation Pierre Boulez\n  \nOther works by Pierre Boulez\, Charles Kwong (world premiere)\, Wei-Chieh Lin (world premiere)\, Piyawat Louilarpprasert (world premiere)\, Alyssa Regent (world premiere) \n  \nEnsemble of the Lucerne Festival Contemporary Orchestra (LFCO) \nAnthony Millet\, accordion \nParticipants in the Contemporary- Conducting Program conductors \nMarco Stroppa (sound projection) – IRCAM Production Team \n  \n  \nLucerne Festival Academy 2 \nLucerne Festival\, Summer Spring Festival \nKKL Luzern\, Lucerne Hall
URL:https://www.marcostroppa.eu/event/lucerne-festival-summer-festival-2025-new-work-for-accordion-and-electro-acoustic-totem/
LOCATION:KKL Luzern\, Lucerne Hall\, Hirschmattstrasse 13\, Lucerne\, 6002\, Switzerland
CATEGORIES:Concert,Conference
ATTACH;FMTTYPE=image/jpeg:https://www.marcostroppa.eu/wp-content/uploads/2025/01/image008.jpg
END:VEVENT
BEGIN:VEVENT
DTSTART;TZID=Europe/Rome:20250817T150000
DTEND;TZID=Europe/Rome:20250817T170000
DTSTAMP:20260422T142021
CREATED:20250118T153903Z
LAST-MODIFIED:20250709T110755Z
UID:10000054-1755442800-1755450000@www.marcostroppa.eu
SUMMARY:Lucerne Festival\, Summer Festival 2025 - La vita immobile\, Spirali
DESCRIPTION:Introduction to the Concert\nIrvine Arditti and Marco Stroppa in conversation with Mark Sattler (in English and German | KKL Luzern\, Auditorium) \nLa vita immobile\, for string quartet (swiss premiere) \nSpirali\, for string quartet projected into the space (swiss premiere) \nOther works by Pierre Boulez \n  \nArditti Quartet \nMarco Stroppa (sound projection) \n  \nPortrait Boulez & Stroppa 1 \nLucerne Festival\, Summer Spring Festival \nKKL Luzern\, Lucerne Hall \n 
URL:https://www.marcostroppa.eu/event/lucerne-festival-summer-festival-2025-spirali/
LOCATION:KKL Luzern\, Lucerne Hall\, Hirschmattstrasse 13\, Lucerne\, 6002\, Switzerland
CATEGORIES:Concert,Conference
ATTACH;FMTTYPE=image/jpeg:https://www.marcostroppa.eu/wp-content/uploads/2025/01/image008.jpg
END:VEVENT
END:VCALENDAR