BEGIN:VCALENDAR
VERSION:2.0
PRODID:-//Marco Stroppa - ECPv6.15.14//NONSGML v1.0//EN
CALSCALE:GREGORIAN
METHOD:PUBLISH
X-WR-CALNAME:Marco Stroppa
X-ORIGINAL-URL:https://www.marcostroppa.eu
X-WR-CALDESC:Events for Marco Stroppa
REFRESH-INTERVAL;VALUE=DURATION:PT1H
X-Robots-Tag:noindex
X-PUBLISHED-TTL:PT1H
BEGIN:VTIMEZONE
TZID:Europe/Rome
BEGIN:DAYLIGHT
TZOFFSETFROM:+0100
TZOFFSETTO:+0200
TZNAME:CEST
DTSTART:19830327T010000
END:DAYLIGHT
BEGIN:STANDARD
TZOFFSETFROM:+0200
TZOFFSETTO:+0100
TZNAME:CET
DTSTART:19830925T010000
END:STANDARD
BEGIN:DAYLIGHT
TZOFFSETFROM:+0100
TZOFFSETTO:+0200
TZNAME:CEST
DTSTART:19840325T010000
END:DAYLIGHT
BEGIN:STANDARD
TZOFFSETFROM:+0200
TZOFFSETTO:+0100
TZNAME:CET
DTSTART:19840930T010000
END:STANDARD
BEGIN:DAYLIGHT
TZOFFSETFROM:+0100
TZOFFSETTO:+0200
TZNAME:CEST
DTSTART:19850331T010000
END:DAYLIGHT
BEGIN:STANDARD
TZOFFSETFROM:+0200
TZOFFSETTO:+0100
TZNAME:CET
DTSTART:19850929T010000
END:STANDARD
BEGIN:DAYLIGHT
TZOFFSETFROM:+0100
TZOFFSETTO:+0200
TZNAME:CEST
DTSTART:19860330T010000
END:DAYLIGHT
BEGIN:STANDARD
TZOFFSETFROM:+0200
TZOFFSETTO:+0100
TZNAME:CET
DTSTART:19860928T010000
END:STANDARD
BEGIN:DAYLIGHT
TZOFFSETFROM:+0100
TZOFFSETTO:+0200
TZNAME:CEST
DTSTART:19870329T010000
END:DAYLIGHT
BEGIN:STANDARD
TZOFFSETFROM:+0200
TZOFFSETTO:+0100
TZNAME:CET
DTSTART:19870927T010000
END:STANDARD
BEGIN:DAYLIGHT
TZOFFSETFROM:+0100
TZOFFSETTO:+0200
TZNAME:CEST
DTSTART:19880327T010000
END:DAYLIGHT
BEGIN:STANDARD
TZOFFSETFROM:+0200
TZOFFSETTO:+0100
TZNAME:CET
DTSTART:19880925T010000
END:STANDARD
BEGIN:DAYLIGHT
TZOFFSETFROM:+0100
TZOFFSETTO:+0200
TZNAME:CEST
DTSTART:19890326T010000
END:DAYLIGHT
BEGIN:STANDARD
TZOFFSETFROM:+0200
TZOFFSETTO:+0100
TZNAME:CET
DTSTART:19890924T010000
END:STANDARD
BEGIN:DAYLIGHT
TZOFFSETFROM:+0100
TZOFFSETTO:+0200
TZNAME:CEST
DTSTART:19900325T010000
END:DAYLIGHT
BEGIN:STANDARD
TZOFFSETFROM:+0200
TZOFFSETTO:+0100
TZNAME:CET
DTSTART:19900930T010000
END:STANDARD
BEGIN:DAYLIGHT
TZOFFSETFROM:+0100
TZOFFSETTO:+0200
TZNAME:CEST
DTSTART:19910331T010000
END:DAYLIGHT
BEGIN:STANDARD
TZOFFSETFROM:+0200
TZOFFSETTO:+0100
TZNAME:CET
DTSTART:19910929T010000
END:STANDARD
BEGIN:DAYLIGHT
TZOFFSETFROM:+0100
TZOFFSETTO:+0200
TZNAME:CEST
DTSTART:19920329T010000
END:DAYLIGHT
BEGIN:STANDARD
TZOFFSETFROM:+0200
TZOFFSETTO:+0100
TZNAME:CET
DTSTART:19920927T010000
END:STANDARD
BEGIN:DAYLIGHT
TZOFFSETFROM:+0100
TZOFFSETTO:+0200
TZNAME:CEST
DTSTART:19930328T010000
END:DAYLIGHT
BEGIN:STANDARD
TZOFFSETFROM:+0200
TZOFFSETTO:+0100
TZNAME:CET
DTSTART:19930926T010000
END:STANDARD
BEGIN:DAYLIGHT
TZOFFSETFROM:+0100
TZOFFSETTO:+0200
TZNAME:CEST
DTSTART:19940327T010000
END:DAYLIGHT
BEGIN:STANDARD
TZOFFSETFROM:+0200
TZOFFSETTO:+0100
TZNAME:CET
DTSTART:19940925T010000
END:STANDARD
BEGIN:DAYLIGHT
TZOFFSETFROM:+0100
TZOFFSETTO:+0200
TZNAME:CEST
DTSTART:19950326T010000
END:DAYLIGHT
BEGIN:STANDARD
TZOFFSETFROM:+0200
TZOFFSETTO:+0100
TZNAME:CET
DTSTART:19950924T010000
END:STANDARD
BEGIN:DAYLIGHT
TZOFFSETFROM:+0100
TZOFFSETTO:+0200
TZNAME:CEST
DTSTART:19960331T010000
END:DAYLIGHT
BEGIN:STANDARD
TZOFFSETFROM:+0200
TZOFFSETTO:+0100
TZNAME:CET
DTSTART:19961027T010000
END:STANDARD
BEGIN:DAYLIGHT
TZOFFSETFROM:+0100
TZOFFSETTO:+0200
TZNAME:CEST
DTSTART:19970330T010000
END:DAYLIGHT
BEGIN:STANDARD
TZOFFSETFROM:+0200
TZOFFSETTO:+0100
TZNAME:CET
DTSTART:19971026T010000
END:STANDARD
BEGIN:DAYLIGHT
TZOFFSETFROM:+0100
TZOFFSETTO:+0200
TZNAME:CEST
DTSTART:19980329T010000
END:DAYLIGHT
BEGIN:STANDARD
TZOFFSETFROM:+0200
TZOFFSETTO:+0100
TZNAME:CET
DTSTART:19981025T010000
END:STANDARD
BEGIN:DAYLIGHT
TZOFFSETFROM:+0100
TZOFFSETTO:+0200
TZNAME:CEST
DTSTART:19990328T010000
END:DAYLIGHT
BEGIN:STANDARD
TZOFFSETFROM:+0200
TZOFFSETTO:+0100
TZNAME:CET
DTSTART:19991031T010000
END:STANDARD
BEGIN:DAYLIGHT
TZOFFSETFROM:+0100
TZOFFSETTO:+0200
TZNAME:CEST
DTSTART:20000326T010000
END:DAYLIGHT
BEGIN:STANDARD
TZOFFSETFROM:+0200
TZOFFSETTO:+0100
TZNAME:CET
DTSTART:20001029T010000
END:STANDARD
BEGIN:DAYLIGHT
TZOFFSETFROM:+0100
TZOFFSETTO:+0200
TZNAME:CEST
DTSTART:20010325T010000
END:DAYLIGHT
BEGIN:STANDARD
TZOFFSETFROM:+0200
TZOFFSETTO:+0100
TZNAME:CET
DTSTART:20011028T010000
END:STANDARD
BEGIN:DAYLIGHT
TZOFFSETFROM:+0100
TZOFFSETTO:+0200
TZNAME:CEST
DTSTART:20020331T010000
END:DAYLIGHT
BEGIN:STANDARD
TZOFFSETFROM:+0200
TZOFFSETTO:+0100
TZNAME:CET
DTSTART:20021027T010000
END:STANDARD
BEGIN:DAYLIGHT
TZOFFSETFROM:+0100
TZOFFSETTO:+0200
TZNAME:CEST
DTSTART:20030330T010000
END:DAYLIGHT
BEGIN:STANDARD
TZOFFSETFROM:+0200
TZOFFSETTO:+0100
TZNAME:CET
DTSTART:20031026T010000
END:STANDARD
END:VTIMEZONE
BEGIN:VEVENT
DTSTART;TZID=Europe/Rome:20020411T203000
DTEND;TZID=Europe/Rome:20020411T220000
DTSTAMP:20260422T165642
CREATED:20240308T161744Z
LAST-MODIFIED:20250118T153232Z
UID:10000028-1018557000-1018562400@www.marcostroppa.eu
SUMMARY:Ircam\, Espace de projection 2002 - Spirali
DESCRIPTION:Spirali (first performance of the final version of digital sound projection) \nQuatuor Diotima\, Marco Stroppa (sound projection)\, Serge Lemouton (musical informatics) \nIrcam\, Espace de projection\, Paris
URL:https://www.marcostroppa.eu/event/ircam-espace-de-projection-spirali/
LOCATION:Ircam\, Espace de projection\, Paris\, France
CATEGORIES:Concert
END:VEVENT
BEGIN:VEVENT
DTSTART;VALUE=DATE:19980206
DTEND;VALUE=DATE:19980208
DTSTAMP:20260422T165642
CREATED:20240308T160921Z
LAST-MODIFIED:20240824T141844Z
UID:10000027-886723200-886895999@www.marcostroppa.eu
SUMMARY:Ircam 1998 - élet... fogytiglan
DESCRIPTION:élet… fogytiglan (Modules 3\, 4) (first performance) \nEnsemble Intercontemporain\, Patrick Davin \nIRCAM\, Espace de Projection\, Paris
URL:https://www.marcostroppa.eu/event/ircam-elet-fogytiglan-1998/
LOCATION:Ircam\, Espace de projection\, Paris\, France
CATEGORIES:Concert
END:VEVENT
BEGIN:VEVENT
DTSTART;VALUE=DATE:19960627
DTEND;VALUE=DATE:19960629
DTSTAMP:20260422T165642
CREATED:20240305T195557Z
LAST-MODIFIED:20240824T141054Z
UID:10000016-835833600-836006399@www.marcostroppa.eu
SUMMARY:Académie d’été 1996 - In cielo in terra in mare
DESCRIPTION:June 27: In cielo in terra in mare; Marco Stroppa (sound projection)\nJune 28: Miniature estrose: Premier livre (extraits)\, Traiettoria; Pierre-Laurent Aimard (piano)\, Marco Stroppa (sound projection)\n\nFestival «Académie d’été 1996»; Ircam\, Espace de projection\, Paris
URL:https://www.marcostroppa.eu/event/ircam-academie-dete-1996/
LOCATION:Ircam\, Espace de projection\, Paris\, France
CATEGORIES:Concert
ATTACH;FMTTYPE=image/jpeg:https://www.marcostroppa.eu/wp-content/uploads/2024/03/Academie-dete-1996.jpg
END:VEVENT
BEGIN:VEVENT
DTSTART;TZID=Europe/Rome:19930116T050000
DTEND;TZID=Europe/Rome:19930116T050000
DTSTAMP:20260422T165642
CREATED:20240308T134127Z
LAST-MODIFIED:20240824T142153Z
UID:10000024-727160400-727160400@www.marcostroppa.eu
SUMMARY:Concert «Stroppa/Ferneyhough» 1993 - Proemio\, Spirali
DESCRIPTION:Proemio (first performance of 24-chanel concert version); Spirali \nDidier Arditi (sound engineer)\, Régis Mitonneau (sound projection)\, Christophe Gualde (stage director)\, Arditti String Quartet \nConcert «Stroppa/Ferneyhough»; Ircam\, Atelier Ircam; Espace de Projection\, Paris
URL:https://www.marcostroppa.eu/event/concert-stroppa-ferneyhough-proemio-spirali/
LOCATION:Ircam\, Espace de projection\, Paris\, France
CATEGORIES:Concert
ATTACH;FMTTYPE=image/jpeg:https://www.marcostroppa.eu/wp-content/uploads/2024/03/Ircam-93.jpg
END:VEVENT
BEGIN:VEVENT
DTSTART;VALUE=DATE:19840416
DTEND;VALUE=DATE:19840417
DTSTAMP:20260422T165642
CREATED:20240308T121942Z
LAST-MODIFIED:20240824T141422Z
UID:10000017-450921600-451007999@www.marcostroppa.eu
SUMMARY:La génération des compositeurs de moins de 25 ans (1984) - Dialoghi
DESCRIPTION:Dialoghi (first performance) \nAdriano Ambrosini (pf.)\, Marco Stroppa (sound projection) \nIRCAM\, Espace de Projection; Paris
URL:https://www.marcostroppa.eu/event/la-generation-des-compositeurs-de-moins-de-25-ans-dialoghi/
LOCATION:Ircam\, Espace de projection\, Paris\, France
CATEGORIES:Concert
END:VEVENT
END:VCALENDAR