BEGIN:VCALENDAR
VERSION:2.0
PRODID:-//Marco Stroppa - ECPv6.15.14//NONSGML v1.0//EN
CALSCALE:GREGORIAN
METHOD:PUBLISH
X-ORIGINAL-URL:https://www.marcostroppa.eu
X-WR-CALDESC:Events for Marco Stroppa
REFRESH-INTERVAL;VALUE=DURATION:PT1H
X-Robots-Tag:noindex
X-PUBLISHED-TTL:PT1H
BEGIN:VTIMEZONE
TZID:Europe/Rome
BEGIN:DAYLIGHT
TZOFFSETFROM:+0100
TZOFFSETTO:+0200
TZNAME:CEST
DTSTART:20230326T010000
END:DAYLIGHT
BEGIN:STANDARD
TZOFFSETFROM:+0200
TZOFFSETTO:+0100
TZNAME:CET
DTSTART:20231029T010000
END:STANDARD
BEGIN:DAYLIGHT
TZOFFSETFROM:+0100
TZOFFSETTO:+0200
TZNAME:CEST
DTSTART:20240331T010000
END:DAYLIGHT
BEGIN:STANDARD
TZOFFSETFROM:+0200
TZOFFSETTO:+0100
TZNAME:CET
DTSTART:20241027T010000
END:STANDARD
BEGIN:DAYLIGHT
TZOFFSETFROM:+0100
TZOFFSETTO:+0200
TZNAME:CEST
DTSTART:20250330T010000
END:DAYLIGHT
BEGIN:STANDARD
TZOFFSETFROM:+0200
TZOFFSETTO:+0100
TZNAME:CET
DTSTART:20251026T010000
END:STANDARD
END:VTIMEZONE
BEGIN:VEVENT
DTSTART;TZID=Europe/Rome:20240506T200000
DTEND;TZID=Europe/Rome:20240506T213000
DTSTAMP:20260422T155237
CREATED:20220401T002701Z
LAST-MODIFIED:20240414T104457Z
UID:10000005-1715025600-1715031000@www.marcostroppa.eu
SUMMARY:JIM2024\, Marseille - Totems électroacoustiques
DESCRIPTION:Why should you run? (2023) pour électronique à 7 pistes \n…of Silence (2007) pour saxophone et électronique de chambre \nWith me (2023) pour électronique à 7 pistes \nhist whist (2009) pour violon et électronique de chambre \nGiovanna Sevi\, violon\nJoël Versavaud\, saxophone\nMarco Stroppa\, composition et électronique \n«Journées d’Informatique Musicale» 2024\, GMEM – Centre National de création musicale\, Marseille \nAprès avoir exploré la diffusion du son acousmatique\, immersif et radiophonique\, la recherche d’une relation spatiale plus étroite\, voire intime\, entre un instrumentiste sur scène et l’électronique s’est imposée. Le concept “d’électronique de chambre” exprime cette quête à la fois technologique\, musicale et expressive.\nJ’ai substitué le « haut-parleur » par la « source sonore » : une source émet le son dans différentes directions\, créant ainsi une émission rayonnante. En m’inspirant des travaux sur la source multiple réalisés à l’Ircam dans les années 80\, j’ai exploré divers assemblages d’enceintes regroupées dans un même endroit que j’ai nommées des « totems ».\nDans …of Silence\, quatre haut-parleurs sont disposés sur le même plan\, orientés dans les quatre directions\, accompagnés d’un haut-parleur dirigé vers le haut. Quant à “hist whist”\, il s’agit d’une colonne de quatre haut-parleurs superposés qui génère des effets de spirale.\nPar rapport à cet ensemble fixe\, l’interprète se positionne différemment\, créant ainsi des effets de dialogue\, de macro-amplification…\nLes titres de toutes mes pièces pour “électronique de chambre” sont empruntés aux poèmes de E.E. Cummings. Avant chaque pièce\, une œuvre électronique à sept pistes extraite de la partie soliste de « Come Play with Me » (concerto pour électronique soliste et orchestre) est présentée\, où les différents canaux sont répartis sur les deux totems. MS
URL:https://www.marcostroppa.eu/event/jim2024-marseille-totems-electroacoustiques/
LOCATION:GMEM – Centre national de création musicale\, Marseille\, Friche la Belle de Mai – 41\, rue Jobin\, Marseille\, 13003\, France
CATEGORIES:Concert
END:VEVENT
END:VCALENDAR