BEGIN:VCALENDAR
VERSION:2.0
PRODID:-//Marco Stroppa - ECPv6.15.14//NONSGML v1.0//EN
CALSCALE:GREGORIAN
METHOD:PUBLISH
X-ORIGINAL-URL:https://www.marcostroppa.eu
X-WR-CALDESC:Events for Marco Stroppa
REFRESH-INTERVAL;VALUE=DURATION:PT1H
X-Robots-Tag:noindex
X-PUBLISHED-TTL:PT1H
BEGIN:VTIMEZONE
TZID:Europe/Rome
BEGIN:DAYLIGHT
TZOFFSETFROM:+0100
TZOFFSETTO:+0200
TZNAME:CEST
DTSTART:19930328T010000
END:DAYLIGHT
BEGIN:STANDARD
TZOFFSETFROM:+0200
TZOFFSETTO:+0100
TZNAME:CET
DTSTART:19930926T010000
END:STANDARD
BEGIN:DAYLIGHT
TZOFFSETFROM:+0100
TZOFFSETTO:+0200
TZNAME:CEST
DTSTART:19940327T010000
END:DAYLIGHT
BEGIN:STANDARD
TZOFFSETFROM:+0200
TZOFFSETTO:+0100
TZNAME:CET
DTSTART:19940925T010000
END:STANDARD
BEGIN:DAYLIGHT
TZOFFSETFROM:+0100
TZOFFSETTO:+0200
TZNAME:CEST
DTSTART:19950326T010000
END:DAYLIGHT
BEGIN:STANDARD
TZOFFSETFROM:+0200
TZOFFSETTO:+0100
TZNAME:CET
DTSTART:19950924T010000
END:STANDARD
BEGIN:DAYLIGHT
TZOFFSETFROM:+0100
TZOFFSETTO:+0200
TZNAME:CEST
DTSTART:19960331T010000
END:DAYLIGHT
BEGIN:STANDARD
TZOFFSETFROM:+0200
TZOFFSETTO:+0100
TZNAME:CET
DTSTART:19961027T010000
END:STANDARD
END:VTIMEZONE
BEGIN:VEVENT
DTSTART;TZID=Europe/Rome:19950203T210000
DTEND;TZID=Europe/Rome:19950203T230000
DTSTAMP:20260422T222936
CREATED:20240824T140511Z
LAST-MODIFIED:20240824T140511Z
UID:10000047-791845200-791852400@www.marcostroppa.eu
SUMMARY:Memoria e attesa: il Presente nella Musica (1995) - Spirali
DESCRIPTION:Spirali\, per quartetto d’archi proiettato nello spazio \nOther works by Webern\, Bartók. \n  \nArditti String Quartett \n  \nConservatory of Music “Giuseppe Verdi”\, Turin \nThis event was associated with two-days concerts held at the Turin Conservatory on November 28\, 1994\, and February 3\, 1995. During these events\, works such as Miniature Estroses (performed by Pierre-Laurent Aimard) and Spirali (performed by the Arditti String Quartet)\, among others\, were featured. As stated within the publication: \nNel panorama della musica contemporanea la figura di Marco Stroppa è ben chiara\, precisa.\nLa sue lezioni teoriche al Festival Acanthes alla Chartreuse di Ville Neuve les Avignons\, l’esecuzione delle sue musiche nella Sala Presse del Lingotto sono ricordi molto vivi.\nI due “episodi” che la De Sono offre a Torino cercheranno di mettere a fuoco non solo la tecnica compositiva di Marco Stroppa ma anche la musica che lo ha influenzato\, espero siano di aiuto a chi vuole conoscere questa espressione della musica di oggi. \n 
URL:https://www.marcostroppa.eu/event/memoria-e-attesa-il-presente-nella-musica-1995-spirali/
LOCATION:Conservatory “Giuseppe Verdi”\, Turin\, Turin\, Italy
CATEGORIES:Concert
END:VEVENT
BEGIN:VEVENT
DTSTART;TZID=Europe/Rome:19941128T210000
DTEND;TZID=Europe/Rome:19941128T230000
DTSTAMP:20260422T222936
CREATED:20240824T135428Z
LAST-MODIFIED:20240824T140733Z
UID:10000046-786056400-786063600@www.marcostroppa.eu
SUMMARY:Memoria e attesa: il Presente nella Musica (1994) - Miniature estrose
DESCRIPTION:Da Miniature estrose\, Primo Libro: \n\nMoai (dazzling\, hieratic)\nInnige Cavatina (beklemmt und imaginatif)\nBirichino (come un furetto: scherzoso\, con malizia)\nNinna nanna (ondulante)\nPassacaglia canonica (in contrappunto policromatico: quasi imperturbabile)\nAnagnorisis I (canones diversi ad consequendum)\n\nOther works by Beethoven\, Debussy. \n  \nPierre-Laurent Aimard\, piano \n  \nConservatory of Music “Giuseppe Verdi”\, Turin \nThis event was associated with two-days concerts held at the Turin Conservatory on November 28\, 1994\, and February 3\, 1995. During these events\, works such as Miniature Estroses (performed by Pierre-Laurent Aimard) and Spirali (performed by the Arditti String Quartet)\, among others\, were featured. As stated within the publication: \nNel panorama della musica contemporanea la figura di Marco Stroppa è ben chiara\, precisa.\nLa sue lezioni teoriche al Festival Acanthes alla Chartreuse di Ville Neuve les Avignons\, l’esecuzione delle sue musiche nella Sala Presse del Lingotto sono ricordi molto vivi.\nI due “episodi” che la De Sono offre a Torino cercheranno di mettere a fuoco non solo la tecnica compositiva di Marco Stroppa ma anche la musica che lo ha influenzato\, espero siano di aiuto a chi vuole conoscere questa espressione della musica di oggi. \n 
URL:https://www.marcostroppa.eu/event/memoria-e-attesa-il-presente-nella-musica-miniature-estrose/
LOCATION:Conservatory “Giuseppe Verdi”\, Turin\, Turin\, Italy
CATEGORIES:Concert
END:VEVENT
END:VCALENDAR