BEGIN:VCALENDAR
VERSION:2.0
PRODID:-//Marco Stroppa - ECPv6.15.14//NONSGML v1.0//EN
CALSCALE:GREGORIAN
METHOD:PUBLISH
X-WR-CALNAME:Marco Stroppa
X-ORIGINAL-URL:https://www.marcostroppa.eu
X-WR-CALDESC:Events for Marco Stroppa
REFRESH-INTERVAL;VALUE=DURATION:PT1H
X-Robots-Tag:noindex
X-PUBLISHED-TTL:PT1H
BEGIN:VTIMEZONE
TZID:Europe/Rome
BEGIN:DAYLIGHT
TZOFFSETFROM:+0100
TZOFFSETTO:+0200
TZNAME:CEST
DTSTART:20070325T010000
END:DAYLIGHT
BEGIN:STANDARD
TZOFFSETFROM:+0200
TZOFFSETTO:+0100
TZNAME:CET
DTSTART:20071028T010000
END:STANDARD
BEGIN:DAYLIGHT
TZOFFSETFROM:+0100
TZOFFSETTO:+0200
TZNAME:CEST
DTSTART:20080330T010000
END:DAYLIGHT
BEGIN:STANDARD
TZOFFSETFROM:+0200
TZOFFSETTO:+0100
TZNAME:CET
DTSTART:20081026T010000
END:STANDARD
BEGIN:DAYLIGHT
TZOFFSETFROM:+0100
TZOFFSETTO:+0200
TZNAME:CEST
DTSTART:20090329T010000
END:DAYLIGHT
BEGIN:STANDARD
TZOFFSETFROM:+0200
TZOFFSETTO:+0100
TZNAME:CET
DTSTART:20091025T010000
END:STANDARD
BEGIN:DAYLIGHT
TZOFFSETFROM:+0100
TZOFFSETTO:+0200
TZNAME:CEST
DTSTART:20100328T010000
END:DAYLIGHT
BEGIN:STANDARD
TZOFFSETFROM:+0200
TZOFFSETTO:+0100
TZNAME:CET
DTSTART:20101031T010000
END:STANDARD
BEGIN:DAYLIGHT
TZOFFSETFROM:+0100
TZOFFSETTO:+0200
TZNAME:CEST
DTSTART:20110327T010000
END:DAYLIGHT
BEGIN:STANDARD
TZOFFSETFROM:+0200
TZOFFSETTO:+0100
TZNAME:CET
DTSTART:20111030T010000
END:STANDARD
BEGIN:DAYLIGHT
TZOFFSETFROM:+0100
TZOFFSETTO:+0200
TZNAME:CEST
DTSTART:20120325T010000
END:DAYLIGHT
BEGIN:STANDARD
TZOFFSETFROM:+0200
TZOFFSETTO:+0100
TZNAME:CET
DTSTART:20121028T010000
END:STANDARD
BEGIN:DAYLIGHT
TZOFFSETFROM:+0100
TZOFFSETTO:+0200
TZNAME:CEST
DTSTART:20130331T010000
END:DAYLIGHT
BEGIN:STANDARD
TZOFFSETFROM:+0200
TZOFFSETTO:+0100
TZNAME:CET
DTSTART:20131027T010000
END:STANDARD
BEGIN:DAYLIGHT
TZOFFSETFROM:+0100
TZOFFSETTO:+0200
TZNAME:CEST
DTSTART:20140330T010000
END:DAYLIGHT
BEGIN:STANDARD
TZOFFSETFROM:+0200
TZOFFSETTO:+0100
TZNAME:CET
DTSTART:20141026T010000
END:STANDARD
END:VTIMEZONE
BEGIN:VEVENT
DTSTART;TZID=Europe/Rome:20130615T150000
DTEND;TZID=Europe/Rome:20130615T170000
DTSTAMP:20260422T154734
CREATED:20240323T134825Z
LAST-MODIFIED:20240824T141554Z
UID:10000032-1371308400-1371315600@www.marcostroppa.eu
SUMMARY:Aldeburgh Festival 2013 - Kontakte
DESCRIPTION:K. Stockhausen\, Kontakte \nAldeburgh Festival of Music and the Arts 2013; Snape Maltings Concert Hall. Britten Studio\, Aldeburgh
URL:https://www.marcostroppa.eu/event/aldelburgh-festival-2013-kontakte/
LOCATION:Aldelburgh Festival\, United Kingdom
CATEGORIES:Concert
ATTACH;FMTTYPE=image/jpeg:https://www.marcostroppa.eu/wp-content/uploads/2024/03/13_Aldeburgh_Kontakte_cover.jpg
END:VEVENT
BEGIN:VEVENT
DTSTART;TZID=Europe/Rome:20080622T150000
DTEND;TZID=Europe/Rome:20080622T170000
DTSTAMP:20260422T154734
CREATED:20240323T134329Z
LAST-MODIFIED:20240824T141548Z
UID:10000031-1214146800-1214154000@www.marcostroppa.eu
SUMMARY:Aldeburgh Festival 2008 - Hommage à Gy.K.
DESCRIPTION:R. Schumann\, Fantasiestücke op. 73\, Märchenbilder op. 113\, Märchenerzählungen op. 132; G. Kurtag\, Hommage à R.Sch.; M. Stroppa\, Hommage à Gy.K. \nAldeburgh Festival of Music and the Arts 2008; Blythburgh Church\, Blythburgh
URL:https://www.marcostroppa.eu/event/aldeburgh-festival-2008-hommage-a-gy-k/
LOCATION:Aldelburgh Festival\, United Kingdom
CATEGORIES:Concert
ATTACH;FMTTYPE=image/png:https://www.marcostroppa.eu/wp-content/uploads/2024/03/08_Aldeburgh_cover.png
END:VEVENT
END:VCALENDAR