BEGIN:VCALENDAR
VERSION:2.0
PRODID:-//Marco Stroppa - ECPv6.15.14//NONSGML v1.0//EN
CALSCALE:GREGORIAN
METHOD:PUBLISH
X-ORIGINAL-URL:https://www.marcostroppa.eu
X-WR-CALDESC:Events for Marco Stroppa
REFRESH-INTERVAL;VALUE=DURATION:PT1H
X-Robots-Tag:noindex
X-PUBLISHED-TTL:PT1H
BEGIN:VTIMEZONE
TZID:Europe/Rome
BEGIN:DAYLIGHT
TZOFFSETFROM:+0100
TZOFFSETTO:+0200
TZNAME:CEST
DTSTART:19880327T010000
END:DAYLIGHT
BEGIN:STANDARD
TZOFFSETFROM:+0200
TZOFFSETTO:+0100
TZNAME:CET
DTSTART:19880925T010000
END:STANDARD
BEGIN:DAYLIGHT
TZOFFSETFROM:+0100
TZOFFSETTO:+0200
TZNAME:CEST
DTSTART:19890326T010000
END:DAYLIGHT
BEGIN:STANDARD
TZOFFSETFROM:+0200
TZOFFSETTO:+0100
TZNAME:CET
DTSTART:19890924T010000
END:STANDARD
BEGIN:DAYLIGHT
TZOFFSETFROM:+0100
TZOFFSETTO:+0200
TZNAME:CEST
DTSTART:19900325T010000
END:DAYLIGHT
BEGIN:STANDARD
TZOFFSETFROM:+0200
TZOFFSETTO:+0100
TZNAME:CET
DTSTART:19900930T010000
END:STANDARD
END:VTIMEZONE
BEGIN:VEVENT
DTSTART;VALUE=DATE:19891122
DTEND;VALUE=DATE:19891124
DTSTAMP:20260422T202244
CREATED:20240308T130555Z
LAST-MODIFIED:20240824T141635Z
UID:10000022-627696000-627868799@www.marcostroppa.eu
SUMMARY:Centre G. Pompidou 1989 - élet... fogytiglan
DESCRIPTION:élet… fogytiglan (Modules 1\, 2\, 5) (first performance) \nEnsemble Intercontemporain\, Péter Eötvös \nCentre G. Pompidou\, Paris
URL:https://www.marcostroppa.eu/event/centre-g-pompidou-elet-fogytiglan/
LOCATION:Centre Georges-Pompidou\, Grande Salle\, Paris\, France
CATEGORIES:Concert
ATTACH;FMTTYPE=image/jpeg:https://www.marcostroppa.eu/wp-content/uploads/2024/03/89_FestAut_qst-fr_cover.jpg
END:VEVENT
END:VCALENDAR