BEGIN:VCALENDAR
VERSION:2.0
PRODID:-//Marco Stroppa - ECPv6.15.14//NONSGML v1.0//EN
CALSCALE:GREGORIAN
METHOD:PUBLISH
X-WR-CALNAME:Marco Stroppa
X-ORIGINAL-URL:https://www.marcostroppa.eu
X-WR-CALDESC:Events for Marco Stroppa
REFRESH-INTERVAL;VALUE=DURATION:PT1H
X-Robots-Tag:noindex
X-PUBLISHED-TTL:PT1H
BEGIN:VTIMEZONE
TZID:Europe/Rome
BEGIN:DAYLIGHT
TZOFFSETFROM:+0100
TZOFFSETTO:+0200
TZNAME:CEST
DTSTART:19820328T010000
END:DAYLIGHT
BEGIN:STANDARD
TZOFFSETFROM:+0200
TZOFFSETTO:+0100
TZNAME:CET
DTSTART:19820926T010000
END:STANDARD
BEGIN:DAYLIGHT
TZOFFSETFROM:+0100
TZOFFSETTO:+0200
TZNAME:CEST
DTSTART:19830327T010000
END:DAYLIGHT
BEGIN:STANDARD
TZOFFSETFROM:+0200
TZOFFSETTO:+0100
TZNAME:CET
DTSTART:19830925T010000
END:STANDARD
BEGIN:DAYLIGHT
TZOFFSETFROM:+0100
TZOFFSETTO:+0200
TZNAME:CEST
DTSTART:19840325T010000
END:DAYLIGHT
BEGIN:STANDARD
TZOFFSETFROM:+0200
TZOFFSETTO:+0100
TZNAME:CET
DTSTART:19840930T010000
END:STANDARD
BEGIN:DAYLIGHT
TZOFFSETFROM:+0100
TZOFFSETTO:+0200
TZNAME:CEST
DTSTART:19850331T010000
END:DAYLIGHT
BEGIN:STANDARD
TZOFFSETFROM:+0200
TZOFFSETTO:+0100
TZNAME:CET
DTSTART:19850929T010000
END:STANDARD
BEGIN:DAYLIGHT
TZOFFSETFROM:+0100
TZOFFSETTO:+0200
TZNAME:CEST
DTSTART:19860330T010000
END:DAYLIGHT
BEGIN:STANDARD
TZOFFSETFROM:+0200
TZOFFSETTO:+0100
TZNAME:CET
DTSTART:19860928T010000
END:STANDARD
BEGIN:DAYLIGHT
TZOFFSETFROM:+0100
TZOFFSETTO:+0200
TZNAME:CEST
DTSTART:19870329T010000
END:DAYLIGHT
BEGIN:STANDARD
TZOFFSETFROM:+0200
TZOFFSETTO:+0100
TZNAME:CET
DTSTART:19870927T010000
END:STANDARD
BEGIN:DAYLIGHT
TZOFFSETFROM:+0100
TZOFFSETTO:+0200
TZNAME:CEST
DTSTART:19880327T010000
END:DAYLIGHT
BEGIN:STANDARD
TZOFFSETFROM:+0200
TZOFFSETTO:+0100
TZNAME:CET
DTSTART:19880925T010000
END:STANDARD
BEGIN:DAYLIGHT
TZOFFSETFROM:+0100
TZOFFSETTO:+0200
TZNAME:CEST
DTSTART:19890326T010000
END:DAYLIGHT
BEGIN:STANDARD
TZOFFSETFROM:+0200
TZOFFSETTO:+0100
TZNAME:CET
DTSTART:19890924T010000
END:STANDARD
BEGIN:DAYLIGHT
TZOFFSETFROM:+0100
TZOFFSETTO:+0200
TZNAME:CEST
DTSTART:19900325T010000
END:DAYLIGHT
BEGIN:STANDARD
TZOFFSETFROM:+0200
TZOFFSETTO:+0100
TZNAME:CET
DTSTART:19900930T010000
END:STANDARD
BEGIN:DAYLIGHT
TZOFFSETFROM:+0100
TZOFFSETTO:+0200
TZNAME:CEST
DTSTART:19910331T010000
END:DAYLIGHT
BEGIN:STANDARD
TZOFFSETFROM:+0200
TZOFFSETTO:+0100
TZNAME:CET
DTSTART:19910929T010000
END:STANDARD
BEGIN:DAYLIGHT
TZOFFSETFROM:+0100
TZOFFSETTO:+0200
TZNAME:CEST
DTSTART:19920329T010000
END:DAYLIGHT
BEGIN:STANDARD
TZOFFSETFROM:+0200
TZOFFSETTO:+0100
TZNAME:CET
DTSTART:19920927T010000
END:STANDARD
BEGIN:DAYLIGHT
TZOFFSETFROM:+0100
TZOFFSETTO:+0200
TZNAME:CEST
DTSTART:19930328T010000
END:DAYLIGHT
BEGIN:STANDARD
TZOFFSETFROM:+0200
TZOFFSETTO:+0100
TZNAME:CET
DTSTART:19930926T010000
END:STANDARD
BEGIN:DAYLIGHT
TZOFFSETFROM:+0100
TZOFFSETTO:+0200
TZNAME:CEST
DTSTART:19940327T010000
END:DAYLIGHT
BEGIN:STANDARD
TZOFFSETFROM:+0200
TZOFFSETTO:+0100
TZNAME:CET
DTSTART:19940925T010000
END:STANDARD
BEGIN:DAYLIGHT
TZOFFSETFROM:+0100
TZOFFSETTO:+0200
TZNAME:CEST
DTSTART:19950326T010000
END:DAYLIGHT
BEGIN:STANDARD
TZOFFSETFROM:+0200
TZOFFSETTO:+0100
TZNAME:CET
DTSTART:19950924T010000
END:STANDARD
BEGIN:DAYLIGHT
TZOFFSETFROM:+0100
TZOFFSETTO:+0200
TZNAME:CEST
DTSTART:19960331T010000
END:DAYLIGHT
BEGIN:STANDARD
TZOFFSETFROM:+0200
TZOFFSETTO:+0100
TZNAME:CET
DTSTART:19961027T010000
END:STANDARD
BEGIN:DAYLIGHT
TZOFFSETFROM:+0100
TZOFFSETTO:+0200
TZNAME:CEST
DTSTART:19970330T010000
END:DAYLIGHT
BEGIN:STANDARD
TZOFFSETFROM:+0200
TZOFFSETTO:+0100
TZNAME:CET
DTSTART:19971026T010000
END:STANDARD
BEGIN:DAYLIGHT
TZOFFSETFROM:+0100
TZOFFSETTO:+0200
TZNAME:CEST
DTSTART:19980329T010000
END:DAYLIGHT
BEGIN:STANDARD
TZOFFSETFROM:+0200
TZOFFSETTO:+0100
TZNAME:CET
DTSTART:19981025T010000
END:STANDARD
BEGIN:DAYLIGHT
TZOFFSETFROM:+0100
TZOFFSETTO:+0200
TZNAME:CEST
DTSTART:19990328T010000
END:DAYLIGHT
BEGIN:STANDARD
TZOFFSETFROM:+0200
TZOFFSETTO:+0100
TZNAME:CET
DTSTART:19991031T010000
END:STANDARD
END:VTIMEZONE
BEGIN:VEVENT
DTSTART;VALUE=DATE:19980206
DTEND;VALUE=DATE:19980208
DTSTAMP:20260423T000154
CREATED:20240308T160921Z
LAST-MODIFIED:20240824T141844Z
UID:10000027-886723200-886895999@www.marcostroppa.eu
SUMMARY:Ircam 1998 - élet... fogytiglan
DESCRIPTION:élet… fogytiglan (Modules 3\, 4) (first performance) \nEnsemble Intercontemporain\, Patrick Davin \nIRCAM\, Espace de Projection\, Paris
URL:https://www.marcostroppa.eu/event/ircam-elet-fogytiglan-1998/
LOCATION:Ircam\, Espace de projection\, Paris\, France
CATEGORIES:Concert
END:VEVENT
BEGIN:VEVENT
DTSTART;VALUE=DATE:19960627
DTEND;VALUE=DATE:19960629
DTSTAMP:20260423T000154
CREATED:20240305T195557Z
LAST-MODIFIED:20240824T141054Z
UID:10000016-835833600-836006399@www.marcostroppa.eu
SUMMARY:Académie d’été 1996 - In cielo in terra in mare
DESCRIPTION:June 27: In cielo in terra in mare; Marco Stroppa (sound projection)\nJune 28: Miniature estrose: Premier livre (extraits)\, Traiettoria; Pierre-Laurent Aimard (piano)\, Marco Stroppa (sound projection)\n\nFestival «Académie d’été 1996»; Ircam\, Espace de projection\, Paris
URL:https://www.marcostroppa.eu/event/ircam-academie-dete-1996/
LOCATION:Ircam\, Espace de projection\, Paris\, France
CATEGORIES:Concert
ATTACH;FMTTYPE=image/jpeg:https://www.marcostroppa.eu/wp-content/uploads/2024/03/Academie-dete-1996.jpg
END:VEVENT
BEGIN:VEVENT
DTSTART;TZID=Europe/Rome:19950203T210000
DTEND;TZID=Europe/Rome:19950203T230000
DTSTAMP:20260423T000154
CREATED:20240824T140511Z
LAST-MODIFIED:20240824T140511Z
UID:10000047-791845200-791852400@www.marcostroppa.eu
SUMMARY:Memoria e attesa: il Presente nella Musica (1995) - Spirali
DESCRIPTION:Spirali\, per quartetto d’archi proiettato nello spazio \nOther works by Webern\, Bartók. \n  \nArditti String Quartett \n  \nConservatory of Music “Giuseppe Verdi”\, Turin \nThis event was associated with two-days concerts held at the Turin Conservatory on November 28\, 1994\, and February 3\, 1995. During these events\, works such as Miniature Estroses (performed by Pierre-Laurent Aimard) and Spirali (performed by the Arditti String Quartet)\, among others\, were featured. As stated within the publication: \nNel panorama della musica contemporanea la figura di Marco Stroppa è ben chiara\, precisa.\nLa sue lezioni teoriche al Festival Acanthes alla Chartreuse di Ville Neuve les Avignons\, l’esecuzione delle sue musiche nella Sala Presse del Lingotto sono ricordi molto vivi.\nI due “episodi” che la De Sono offre a Torino cercheranno di mettere a fuoco non solo la tecnica compositiva di Marco Stroppa ma anche la musica che lo ha influenzato\, espero siano di aiuto a chi vuole conoscere questa espressione della musica di oggi. \n 
URL:https://www.marcostroppa.eu/event/memoria-e-attesa-il-presente-nella-musica-1995-spirali/
LOCATION:Conservatory “Giuseppe Verdi”\, Turin\, Turin\, Italy
CATEGORIES:Concert
END:VEVENT
BEGIN:VEVENT
DTSTART;TZID=Europe/Rome:19941128T210000
DTEND;TZID=Europe/Rome:19941128T230000
DTSTAMP:20260423T000154
CREATED:20240824T135428Z
LAST-MODIFIED:20240824T140733Z
UID:10000046-786056400-786063600@www.marcostroppa.eu
SUMMARY:Memoria e attesa: il Presente nella Musica (1994) - Miniature estrose
DESCRIPTION:Da Miniature estrose\, Primo Libro: \n\nMoai (dazzling\, hieratic)\nInnige Cavatina (beklemmt und imaginatif)\nBirichino (come un furetto: scherzoso\, con malizia)\nNinna nanna (ondulante)\nPassacaglia canonica (in contrappunto policromatico: quasi imperturbabile)\nAnagnorisis I (canones diversi ad consequendum)\n\nOther works by Beethoven\, Debussy. \n  \nPierre-Laurent Aimard\, piano \n  \nConservatory of Music “Giuseppe Verdi”\, Turin \nThis event was associated with two-days concerts held at the Turin Conservatory on November 28\, 1994\, and February 3\, 1995. During these events\, works such as Miniature Estroses (performed by Pierre-Laurent Aimard) and Spirali (performed by the Arditti String Quartet)\, among others\, were featured. As stated within the publication: \nNel panorama della musica contemporanea la figura di Marco Stroppa è ben chiara\, precisa.\nLa sue lezioni teoriche al Festival Acanthes alla Chartreuse di Ville Neuve les Avignons\, l’esecuzione delle sue musiche nella Sala Presse del Lingotto sono ricordi molto vivi.\nI due “episodi” che la De Sono offre a Torino cercheranno di mettere a fuoco non solo la tecnica compositiva di Marco Stroppa ma anche la musica che lo ha influenzato\, espero siano di aiuto a chi vuole conoscere questa espressione della musica di oggi. \n 
URL:https://www.marcostroppa.eu/event/memoria-e-attesa-il-presente-nella-musica-miniature-estrose/
LOCATION:Conservatory “Giuseppe Verdi”\, Turin\, Turin\, Italy
CATEGORIES:Concert
END:VEVENT
BEGIN:VEVENT
DTSTART;TZID=Europe/Rome:19941017T210000
DTEND;TZID=Europe/Rome:19941017T230000
DTSTAMP:20260423T000154
CREATED:20240308T155207Z
LAST-MODIFIED:20240824T142044Z
UID:10000026-782427600-782434800@www.marcostroppa.eu
SUMMARY:Saison musicale de Radio France 1994-95 - Hiranyaloka
DESCRIPTION:Hiranyaloka \nOrchester der Südwestfunk Baden-Baden\, Michael Gielen \nSalle Olivier Messiaen\, Maison de Radio France\, Paris \n  \n 
URL:https://www.marcostroppa.eu/event/saison-musicale-de-radio-france-1994-1995-hiranyaloka/
LOCATION:FE
CATEGORIES:Concert
ATTACH;FMTTYPE=image/jpeg:https://www.marcostroppa.eu/wp-content/uploads/2024/03/Radio-France-94.jpg
END:VEVENT
BEGIN:VEVENT
DTSTART;TZID=Europe/Rome:19930116T050000
DTEND;TZID=Europe/Rome:19930116T050000
DTSTAMP:20260423T000154
CREATED:20240308T134127Z
LAST-MODIFIED:20240824T142153Z
UID:10000024-727160400-727160400@www.marcostroppa.eu
SUMMARY:Concert «Stroppa/Ferneyhough» 1993 - Proemio\, Spirali
DESCRIPTION:Proemio (first performance of 24-chanel concert version); Spirali \nDidier Arditi (sound engineer)\, Régis Mitonneau (sound projection)\, Christophe Gualde (stage director)\, Arditti String Quartet \nConcert «Stroppa/Ferneyhough»; Ircam\, Atelier Ircam; Espace de Projection\, Paris
URL:https://www.marcostroppa.eu/event/concert-stroppa-ferneyhough-proemio-spirali/
LOCATION:Ircam\, Espace de projection\, Paris\, France
CATEGORIES:Concert
ATTACH;FMTTYPE=image/jpeg:https://www.marcostroppa.eu/wp-content/uploads/2024/03/Ircam-93.jpg
END:VEVENT
BEGIN:VEVENT
DTSTART;TZID=Europe/Rome:19920913T183000
DTEND;TZID=Europe/Rome:19920913T193000
DTSTAMP:20260423T000154
CREATED:20240328T215720Z
LAST-MODIFIED:20240824T141434Z
UID:10000033-716409000-716412600@www.marcostroppa.eu
SUMMARY:Manifeste Ircam 1992 - Etude pour Pulsazioni
DESCRIPTION:Etude pour Pulsazioni (1989) \nMusical assistants: Denis Lorrain and Emmanuel Favreau \nDidier Pateau\, hautbois\nChristophe Desjardins\, alto \nEnsemble InterContemporain\nPeter Eötvös \nCentre Georges-Pompidou\, Grande Salle; Paris
URL:https://www.marcostroppa.eu/event/manifeste-ircam-1992-etude-pour-pulsazioni/
LOCATION:Centre Georges-Pompidou\, Grande Salle\, Paris\, France
CATEGORIES:Concert
ATTACH;FMTTYPE=image/jpeg:https://www.marcostroppa.eu/wp-content/uploads/2024/03/92_Manifeste_Ircam-frit_cover-scaled.jpg
END:VEVENT
BEGIN:VEVENT
DTSTART;TZID=Europe/Rome:19920128T190000
DTEND;TZID=Europe/Rome:19920128T200000
DTSTAMP:20260423T000154
CREATED:20230624T235621Z
LAST-MODIFIED:20240824T141449Z
UID:10000014-696625200-696628800@www.marcostroppa.eu
SUMMARY:Présences 92: L’Europe des jeunes compositeurs - Passacaglia\, Ondulante
DESCRIPTION:Due Miniature estrose: Passacaglia\, Ondulante \nPierre-Laurent Aimard (piano) \nFestival «Présences 92: L’Europe des jeunes compositeurs»; Grand Auditorium de Radio France\, Paris
URL:https://www.marcostroppa.eu/event/presences-92-due-miniature-estrose-passacaglia-ondulante/
LOCATION:Grand Auditorium de Radio France\, 116 Av. du Président Kennedy\, 75016\, Paris\, France
CATEGORIES:Concert
ATTACH;FMTTYPE=image/jpeg:https://www.marcostroppa.eu/wp-content/uploads/2023/06/Presences-92.jpg
END:VEVENT
BEGIN:VEVENT
DTSTART;TZID=Europe/Rome:19920120T190000
DTEND;TZID=Europe/Rome:19920120T200000
DTSTAMP:20260423T000154
CREATED:20230624T235318Z
LAST-MODIFIED:20240824T141506Z
UID:10000013-695934000-695937600@www.marcostroppa.eu
SUMMARY:Présences 92: L’Europe des jeunes compositeurs - Traiettoria… deviata\, Contrasti
DESCRIPTION:Traiettoria… deviata; Contrasti \nPierre-Laurent Aimard (piano)\, Marco Stroppa (sound projection) \nFestival «Présences 92: L’Europe des jeunes compositeurs»; Grand Auditorium de Radio France\, Paris
URL:https://www.marcostroppa.eu/event/presences-92-traiettoria-deviata/
LOCATION:Grand Auditorium de Radio France\, 116 Av. du Président Kennedy\, 75016\, Paris\, France
CATEGORIES:Concert
ATTACH;FMTTYPE=image/jpeg:https://www.marcostroppa.eu/wp-content/uploads/2023/06/Presences-92.jpg
END:VEVENT
BEGIN:VEVENT
DTSTART;TZID=Europe/Rome:19910131T080000
DTEND;TZID=Europe/Rome:19910131T170000
DTSTAMP:20260423T000154
CREATED:20240308T132440Z
LAST-MODIFIED:20240824T141917Z
UID:10000023-665308800-665341200@www.marcostroppa.eu
SUMMARY:Radio Tre 1991 - Proemio
DESCRIPTION:Proemio (first performance of stereo version) \nAdolfo Moriconi (realisation) \nRAI\, Radio Tre \n 
URL:https://www.marcostroppa.eu/event/radio-tre-proemio/
LOCATION:FE
CATEGORIES:Broadcast
END:VEVENT
BEGIN:VEVENT
DTSTART;TZID=Europe/Rome:19901128T193000
DTEND;TZID=Europe/Rome:19901128T203000
DTSTAMP:20260423T000154
CREATED:20230624T234432Z
LAST-MODIFIED:20240824T141530Z
UID:10000012-659820600-659824200@www.marcostroppa.eu
SUMMARY:Wien Modern 90 - élet… fogytiglan
DESCRIPTION:élet… fogytiglan  \nKlangforum Wien\, Beat Furrer \n«Wien Modern 90»\, Wien
URL:https://www.marcostroppa.eu/event/wien-modern-90-elet-fogytiglan/
LOCATION:FE
CATEGORIES:Concert
ATTACH;FMTTYPE=image/jpeg:https://www.marcostroppa.eu/wp-content/uploads/2023/06/Wien-Modern-90.jpg
END:VEVENT
BEGIN:VEVENT
DTSTART;TZID=Europe/Rome:19901110T203000
DTEND;TZID=Europe/Rome:19901110T223000
DTSTAMP:20260423T000154
CREATED:20230624T233406Z
LAST-MODIFIED:20240824T141229Z
UID:10000009-658269000-658276200@www.marcostroppa.eu
SUMMARY:Ferrara Musica 1990 - Metabolai
DESCRIPTION:Metabolai \nThe Chamber Orchestra of Europe\, Claudio Abbado \n«Ferrara Musica»\, Ferrara
URL:https://www.marcostroppa.eu/event/1896/
LOCATION:Teatro Comunale di Ferrara\, Corso Martiri della Libertà\, 5\, 44121\, Ferrara\, FE\, Italy
CATEGORIES:Concert
ATTACH;FMTTYPE=image/jpeg:https://www.marcostroppa.eu/wp-content/uploads/2023/06/Ferrara-Musica-90.jpg
END:VEVENT
BEGIN:VEVENT
DTSTART;TZID=Europe/Rome:19901108T193000
DTEND;TZID=Europe/Rome:19901108T203000
DTSTAMP:20260423T000154
CREATED:20230624T234321Z
LAST-MODIFIED:20240824T141538Z
UID:10000011-658092600-658096200@www.marcostroppa.eu
SUMMARY:Wien Modern 90 - Metabolai
DESCRIPTION:Metabolai \nThe Chamber Orchestra of Europe\, Claudio Abbado \n«Wien Modern 90»\, Wien
URL:https://www.marcostroppa.eu/event/wien-modern-90-metabolai/
LOCATION:FE
CATEGORIES:Concert
ATTACH;FMTTYPE=image/jpeg:https://www.marcostroppa.eu/wp-content/uploads/2023/06/Wien-Modern-90.jpg
END:VEVENT
BEGIN:VEVENT
DTSTART;TZID=Europe/Rome:19901107T193000
DTEND;TZID=Europe/Rome:19901107T203000
DTSTAMP:20260423T000154
CREATED:20230624T234005Z
LAST-MODIFIED:20240824T141542Z
UID:10000010-658006200-658009800@www.marcostroppa.eu
SUMMARY:Wien Modern 90 - Spirali
DESCRIPTION:Spirali (first performance of the final version of the analogical sound projection) \nArditti String Quartet\, Marco Stroppa (sound projection) \n«Wien Modern 90»\, Wien
URL:https://www.marcostroppa.eu/event/wien-modern-90-spirali/
LOCATION:FE
CATEGORIES:Concert
ATTACH;FMTTYPE=image/jpeg:https://www.marcostroppa.eu/wp-content/uploads/2023/06/Wien-Modern-90.jpg
END:VEVENT
BEGIN:VEVENT
DTSTART;VALUE=DATE:19891122
DTEND;VALUE=DATE:19891124
DTSTAMP:20260423T000154
CREATED:20240308T130555Z
LAST-MODIFIED:20240824T141635Z
UID:10000022-627696000-627868799@www.marcostroppa.eu
SUMMARY:Centre G. Pompidou 1989 - élet... fogytiglan
DESCRIPTION:élet… fogytiglan (Modules 1\, 2\, 5) (first performance) \nEnsemble Intercontemporain\, Péter Eötvös \nCentre G. Pompidou\, Paris
URL:https://www.marcostroppa.eu/event/centre-g-pompidou-elet-fogytiglan/
LOCATION:Centre Georges-Pompidou\, Grande Salle\, Paris\, France
CATEGORIES:Concert
ATTACH;FMTTYPE=image/jpeg:https://www.marcostroppa.eu/wp-content/uploads/2024/03/89_FestAut_qst-fr_cover.jpg
END:VEVENT
BEGIN:VEVENT
DTSTART;TZID=Europe/Rome:19891118T150000
DTEND;TZID=Europe/Rome:19891118T180000
DTSTAMP:20260423T000154
CREATED:20230624T232739Z
LAST-MODIFIED:20240824T141238Z
UID:10000008-627404400-627415200@www.marcostroppa.eu
SUMMARY:Dialogo con Maderna 1989 - Hidinefte
DESCRIPTION:Hidinefte (first performance) \nMarco Stroppa (sound projection) \nFestival «Dialogo con Maderna» (30th of September-10th of December 1989)\, Milan
URL:https://www.marcostroppa.eu/event/dialogo-con-maderna/
LOCATION:FE
CATEGORIES:Concert
ATTACH;FMTTYPE=image/jpeg:https://www.marcostroppa.eu/wp-content/uploads/2023/06/Dialogo-con-Maderna.jpg
END:VEVENT
BEGIN:VEVENT
DTSTART;VALUE=DATE:19890419
DTEND;VALUE=DATE:19890420
DTSTAMP:20260423T000154
CREATED:20240308T125108Z
LAST-MODIFIED:20240824T141923Z
UID:10000021-608947200-609033599@www.marcostroppa.eu
SUMMARY:Reggio Emilia 1989 - Spirali
DESCRIPTION:Spirali (first performance) \nGiovane Quartetto Italiano\, Marco Stroppa (sound projection) \nReggio Emilia
URL:https://www.marcostroppa.eu/event/reggio-emilia-spirali/
LOCATION:FE
CATEGORIES:Concert
END:VEVENT
BEGIN:VEVENT
DTSTART;VALUE=DATE:19890418
DTEND;VALUE=DATE:19890419
DTSTAMP:20260423T000154
CREATED:20240308T124915Z
LAST-MODIFIED:20240824T141516Z
UID:10000020-608860800-608947199@www.marcostroppa.eu
SUMMARY:Società del Quartetto di Milano 1989 - Spirali
DESCRIPTION:Spirali (first performance) \nGiovane Quartetto Italiano\, Marco Stroppa (sound projection) \n«Società del Quartetto di Milano»\, Sala Verdi of Conservatorio\, Milan
URL:https://www.marcostroppa.eu/event/societa-del-quartetto-di-milano-spirali/
LOCATION:FE
CATEGORIES:Concert
END:VEVENT
BEGIN:VEVENT
DTSTART;VALUE=DATE:19890212
DTEND;VALUE=DATE:19890213
DTSTAMP:20260423T000154
CREATED:20240308T124602Z
LAST-MODIFIED:20240824T141218Z
UID:10000019-603244800-603331199@www.marcostroppa.eu
SUMMARY:De Ijsbreker 1989 - Traiettoria [rev. 1988-89]
DESCRIPTION:Traiettoria [rev. 1988-89] (whole cycle: Traiettoria… deviata\, Dialoghi\, Contrasti) (first performance) \nPierre-Laurent Aimard (pf.)\, Marco Stroppa (sound projection) \n«De Ijsbreker»\, Amsterdam
URL:https://www.marcostroppa.eu/event/de-ijsbreker-traiettoria-rev-1988-89/
LOCATION:FE
CATEGORIES:Concert
END:VEVENT
BEGIN:VEVENT
DTSTART;TZID=Europe/Rome:19870611T190000
DTEND;TZID=Europe/Rome:19870611T210000
DTSTAMP:20260423T000154
CREATED:20230624T162459Z
LAST-MODIFIED:20240824T141250Z
UID:10000007-550436400-550443600@www.marcostroppa.eu
SUMMARY:Giornate della nuova musica 1987: “Il suono e lo spazio” - Contrasti
DESCRIPTION:Contrasti (First italian performance of the new version) \nAdriano Ambrosini (pf.)\, Marco Stroppa (sound projection) \n«Giornate della nuova musica 1987: “Il suono e lo spazio”»\, V concerto; Auditorium RAI\, Turin
URL:https://www.marcostroppa.eu/event/giornate-della-nuova-musica-1987-il-suono-e-lo-spazio/
LOCATION:Auditorium Rai di Torino\, Via Gioacchino Rossini\, 15\, 10124\, Torino\, TO\, Italy
CATEGORIES:Concert
ATTACH;FMTTYPE=image/jpeg:https://www.marcostroppa.eu/wp-content/uploads/2022/03/87_Torino_Contrasti-it.jpg
END:VEVENT
BEGIN:VEVENT
DTSTART;VALUE=DATE:19850921
DTEND;VALUE=DATE:19850922
DTSTAMP:20260423T000154
CREATED:20240308T122819Z
LAST-MODIFIED:20240824T142019Z
UID:10000018-496108800-496195199@www.marcostroppa.eu
SUMMARY:XLII Festival Internazionale di Musica Contemporanea di Venezia 1985 - Traiettoria
DESCRIPTION:Traiettoria (whole cycle: Traiettoria… deviata; Dialoghi; Contrasti) (first performance) \nAdriano Ambrosini (pf.)\, Marco Stroppa (sound projection) \nXLII Festival Internazionale di Musica Contemporanea – La Biennale di Venezia; Teatro «La Fenice»\, Venice
URL:https://www.marcostroppa.eu/event/xlii-festival-internazionale-di-musica-contemporanea-la-biennale-di-venezia-traiettoria/
LOCATION:Teatro “La Fenice” di Venezia
CATEGORIES:Concert
END:VEVENT
BEGIN:VEVENT
DTSTART;VALUE=DATE:19840416
DTEND;VALUE=DATE:19840417
DTSTAMP:20260423T000154
CREATED:20240308T121942Z
LAST-MODIFIED:20240824T141422Z
UID:10000017-450921600-451007999@www.marcostroppa.eu
SUMMARY:La génération des compositeurs de moins de 25 ans (1984) - Dialoghi
DESCRIPTION:Dialoghi (first performance) \nAdriano Ambrosini (pf.)\, Marco Stroppa (sound projection) \nIRCAM\, Espace de Projection; Paris
URL:https://www.marcostroppa.eu/event/la-generation-des-compositeurs-de-moins-de-25-ans-dialoghi/
LOCATION:Ircam\, Espace de projection\, Paris\, France
CATEGORIES:Concert
END:VEVENT
BEGIN:VEVENT
DTSTART;TZID=Europe/Rome:19830802T200000
DTEND;TZID=Europe/Rome:19830802T223000
DTSTAMP:20260423T000154
CREATED:20220218T003725Z
LAST-MODIFIED:20240308T163743Z
UID:10000003-428702400-428711400@www.marcostroppa.eu
SUMMARY:Traiettoria… deviata 1983
DESCRIPTION:Traiettoria… deviata (first performance) \nAdriano Ambrosini (pf.)\, Marco Stroppa (sound projection) \nEnte Lirico «Arena di Verona»; Auditorium S. Francesco al Corso\, Verona
URL:https://www.marcostroppa.eu/event/traiettoria-deviata/
LOCATION:FE
CATEGORIES:Concert
END:VEVENT
BEGIN:VEVENT
DTSTART;TZID=Europe/Rome:19830510T210000
DTEND;TZID=Europe/Rome:19830510T220000
DTSTAMP:20260423T000154
CREATED:20220218T001704Z
LAST-MODIFIED:20240824T142145Z
UID:10000002-421448400-421452000@www.marcostroppa.eu
SUMMARY:46th «Maggio Musicale» 1983 - Metabolai
DESCRIPTION:Metabolai (first performance) \nOrchestra Regionale della Toscana\, Maurizio Dini Ciacci \n46th «Maggio Musicale»\, Florence
URL:https://www.marcostroppa.eu/event/46th-maggio-musicale-metabolai/
LOCATION:FE
CATEGORIES:Concert
END:VEVENT
END:VCALENDAR