BEGIN:VCALENDAR
VERSION:2.0
PRODID:-//Marco Stroppa - ECPv6.15.14//NONSGML v1.0//EN
CALSCALE:GREGORIAN
METHOD:PUBLISH
X-ORIGINAL-URL:https://www.marcostroppa.eu
X-WR-CALDESC:Events for Marco Stroppa
REFRESH-INTERVAL;VALUE=DURATION:PT1H
X-Robots-Tag:noindex
X-PUBLISHED-TTL:PT1H
BEGIN:VTIMEZONE
TZID:Europe/Rome
BEGIN:DAYLIGHT
TZOFFSETFROM:+0100
TZOFFSETTO:+0200
TZNAME:CEST
DTSTART:20240331T010000
END:DAYLIGHT
BEGIN:STANDARD
TZOFFSETFROM:+0200
TZOFFSETTO:+0100
TZNAME:CET
DTSTART:20241027T010000
END:STANDARD
BEGIN:DAYLIGHT
TZOFFSETFROM:+0100
TZOFFSETTO:+0200
TZNAME:CEST
DTSTART:20250330T010000
END:DAYLIGHT
BEGIN:STANDARD
TZOFFSETFROM:+0200
TZOFFSETTO:+0100
TZNAME:CET
DTSTART:20251026T010000
END:STANDARD
BEGIN:DAYLIGHT
TZOFFSETFROM:+0100
TZOFFSETTO:+0200
TZNAME:CEST
DTSTART:20260329T010000
END:DAYLIGHT
BEGIN:STANDARD
TZOFFSETFROM:+0200
TZOFFSETTO:+0100
TZNAME:CET
DTSTART:20261025T010000
END:STANDARD
END:VTIMEZONE
BEGIN:VEVENT
DTSTART;TZID=Europe/Rome:20250306T180000
DTEND;TZID=Europe/Rome:20250306T210000
DTSTAMP:20260421T192035
CREATED:20250405T111337Z
LAST-MODIFIED:20250405T111337Z
UID:10000062-1741284000-1741294800@www.marcostroppa.eu
SUMMARY:"Ecrire avec l’informatique” - Seminaire "Pourquoi écrire la musique?” (2025)
DESCRIPTION:Conference “Ecrire avec l’informatique” \nJean-Louis Giavitto\, CNRS Research Director\, computer music programmer \nMarco Stroppa\, Composer \n  \nConference within the Seminar “Pourquoi écrire la musique?”\, organised by David Christoffel\, Julien Labia\, Philippe Manoury\, Yan Maresz\, Véronique Verdier et Charles-David Wajnberg.  \n“Pourquoi écrire la musique?” \nSeminar co-organised by the STMS laboratory (Ircam\, CNRS)\, in partnership with the CIPh (Collège International de Philosophie)\, supported by CREAA\, Institut thématique interdisciplinaire\, University of Strasbourg. \n  \n \n\n 
URL:https://www.marcostroppa.eu/event/ecrire-avec-linformatique-seminaire-pourquoi-ecrire-la-musique-2025/
LOCATION:Ircam\, Salle Stravinsky\, Place Igor-Stravinsky\, 1\, Paris\, 75004\, France
CATEGORIES:Conference,Lecture
END:VEVENT
END:VCALENDAR