BEGIN:VCALENDAR
VERSION:2.0
PRODID:-//Marco Stroppa - ECPv6.15.14//NONSGML v1.0//EN
CALSCALE:GREGORIAN
METHOD:PUBLISH
X-WR-CALNAME:Marco Stroppa
X-ORIGINAL-URL:https://www.marcostroppa.eu
X-WR-CALDESC:Events for Marco Stroppa
REFRESH-INTERVAL;VALUE=DURATION:PT1H
X-Robots-Tag:noindex
X-PUBLISHED-TTL:PT1H
BEGIN:VTIMEZONE
TZID:Europe/Rome
BEGIN:DAYLIGHT
TZOFFSETFROM:+0100
TZOFFSETTO:+0200
TZNAME:CEST
DTSTART:20250330T010000
END:DAYLIGHT
BEGIN:STANDARD
TZOFFSETFROM:+0200
TZOFFSETTO:+0100
TZNAME:CET
DTSTART:20251026T010000
END:STANDARD
BEGIN:DAYLIGHT
TZOFFSETFROM:+0100
TZOFFSETTO:+0200
TZNAME:CEST
DTSTART:20260329T010000
END:DAYLIGHT
BEGIN:STANDARD
TZOFFSETFROM:+0200
TZOFFSETTO:+0100
TZNAME:CET
DTSTART:20261025T010000
END:STANDARD
BEGIN:DAYLIGHT
TZOFFSETFROM:+0100
TZOFFSETTO:+0200
TZNAME:CEST
DTSTART:20270328T010000
END:DAYLIGHT
BEGIN:STANDARD
TZOFFSETFROM:+0200
TZOFFSETTO:+0100
TZNAME:CET
DTSTART:20271031T010000
END:STANDARD
END:VTIMEZONE
BEGIN:VEVENT
DTSTART;TZID=Europe/Rome:20260424T200000
DTEND;TZID=Europe/Rome:20260424T200000
DTSTAMP:20260420T094627
CREATED:20250910T164904Z
LAST-MODIFIED:20250910T165213Z
UID:10000071-1777060800-1777060800@www.marcostroppa.eu
SUMMARY:Ensemble Intercontemporain - Gla-dya
DESCRIPTION:Gla-dya. Études sur les rayonnements jumeaux (2007) for two horns \nOther works by Lara Morciano\, Gérard Grisey\, Philippe Schoeller\, Ivan Fedele \nPour ce nouvel In Between\, l’EIC nous invite à une exploration de l’espace-temps dans une salle transformée en planétarium sonore. Côté « espace »\, gla-dya. Études sur les rayonnements jumeaux pour deux cors de Marco Stroppa tire parti du son difficilement localisable de l’instrument pour explorer illusions acoustiques et dédoublements. \n  \nMarceau Lefèvre\, Paul Riveaux basson\nThomas Köppel artiste visuel\nPierre Bleuse direction\nJosé Miguel Fernández réalisation informatique musicale \n  \n  \n“In Between Spaces” \nEnsemble Intercontemporain \nPARIS Cité de la musique – Salle des concerts
URL:https://www.marcostroppa.eu/event/ensemble-intercontemporain-gla-dya/
LOCATION:Philarmonie\, Salle des concerts – Cité de la musique\, 21 avenue Jean-Jaurès\, Paris\, Paris\, 75019\, France
CATEGORIES:Concert
END:VEVENT
END:VCALENDAR