BEGIN:VCALENDAR
VERSION:2.0
PRODID:-//Marco Stroppa - ECPv6.15.14//NONSGML v1.0//EN
CALSCALE:GREGORIAN
METHOD:PUBLISH
X-ORIGINAL-URL:https://www.marcostroppa.eu
X-WR-CALDESC:Events for Marco Stroppa
REFRESH-INTERVAL;VALUE=DURATION:PT1H
X-Robots-Tag:noindex
X-PUBLISHED-TTL:PT1H
BEGIN:VTIMEZONE
TZID:Europe/Rome
BEGIN:DAYLIGHT
TZOFFSETFROM:+0100
TZOFFSETTO:+0200
TZNAME:CEST
DTSTART:20240331T010000
END:DAYLIGHT
BEGIN:STANDARD
TZOFFSETFROM:+0200
TZOFFSETTO:+0100
TZNAME:CET
DTSTART:20241027T010000
END:STANDARD
BEGIN:DAYLIGHT
TZOFFSETFROM:+0100
TZOFFSETTO:+0200
TZNAME:CEST
DTSTART:20250330T010000
END:DAYLIGHT
BEGIN:STANDARD
TZOFFSETFROM:+0200
TZOFFSETTO:+0100
TZNAME:CET
DTSTART:20251026T010000
END:STANDARD
BEGIN:DAYLIGHT
TZOFFSETFROM:+0100
TZOFFSETTO:+0200
TZNAME:CEST
DTSTART:20260329T010000
END:DAYLIGHT
BEGIN:STANDARD
TZOFFSETFROM:+0200
TZOFFSETTO:+0100
TZNAME:CET
DTSTART:20261025T010000
END:STANDARD
END:VTIMEZONE
BEGIN:VEVENT
DTSTART;TZID=Europe/Rome:20250116T190000
DTEND;TZID=Europe/Rome:20250116T190000
DTSTAMP:20260423T082250
CREATED:20250118T150118Z
LAST-MODIFIED:20250118T150118Z
UID:10000052-1737054000-1737054000@www.marcostroppa.eu
SUMMARY:Hommage an Luigi Nono\, Istituto Italiano di Cultura\, Berlino (2025) - Traiettoria...deviata
DESCRIPTION:Traiettoria…deviata\, for amplified piano\, computer-generated sounds (1982-84) \nOther works by Luigi Nono\, Nicola Sani \nAlvise Vidolin\, live electronics\nErik Bertsch\, piano \nHommage an Luigi Nono – Traiettorie\, Attese: Konzert mit Werken von Luigi Nono\, Marco Stroppa\, Nicola Sani \nIstituto Italiano di Cultura Berlino\, Berlin \n  \n 
URL:https://www.marcostroppa.eu/event/hommage-an-luigi-nono-istituto-italiano-di-cultura-berlino-2025-traiettoria-deviata/
LOCATION:Istituto Italiano di Cultura Berlino\, Hildebrandstraße\, 2\, Berlin\, Berlin\, D-10785\, Germany
CATEGORIES:Concert
END:VEVENT
BEGIN:VEVENT
DTSTART;TZID=Europe/Rome:20250122T200000
DTEND;TZID=Europe/Rome:20250122T210000
DTSTAMP:20260423T082250
CREATED:20250118T151942Z
LAST-MODIFIED:20250910T074756Z
UID:10000053-1737576000-1737579600@www.marcostroppa.eu
SUMMARY:Klavierabend Miharu Ogura 2025 - Miniature estrose
DESCRIPTION:Tre Miniature estrose\, dal Primo Libro  \n\n\nI. Passacaglia Canonica\, in contrappunto policromatico \n\n\nOther works by Rebecca Saunders\, Karlheinz Stockhausen\, Claude Debussy\, J.S. Bach\, Miharu Ogura \nMiharu Ogura\, piano \n  \nKlavierabend Miharu Ogura: Die Pianistin und Komponistin Miharu Ogura im Porträt \nKammermusikverein Frankfurt am Main
URL:https://www.marcostroppa.eu/event/klavierabend-miharu-ogura-2025-miniature-estrose/
LOCATION:Kammermusikverein Frankfurt am Main\, Neue Mainzer Straße 47-53\, Frankfurt am Main\, 60311\, Germany
CATEGORIES:Concert
END:VEVENT
END:VCALENDAR