BEGIN:VCALENDAR
VERSION:2.0
PRODID:-//Marco Stroppa - ECPv6.15.14//NONSGML v1.0//EN
CALSCALE:GREGORIAN
METHOD:PUBLISH
X-WR-CALNAME:Marco Stroppa
X-ORIGINAL-URL:https://www.marcostroppa.eu
X-WR-CALDESC:Events for Marco Stroppa
REFRESH-INTERVAL;VALUE=DURATION:PT1H
X-Robots-Tag:noindex
X-PUBLISHED-TTL:PT1H
BEGIN:VTIMEZONE
TZID:Europe/Rome
BEGIN:DAYLIGHT
TZOFFSETFROM:+0100
TZOFFSETTO:+0200
TZNAME:CEST
DTSTART:20230326T010000
END:DAYLIGHT
BEGIN:STANDARD
TZOFFSETFROM:+0200
TZOFFSETTO:+0100
TZNAME:CET
DTSTART:20231029T010000
END:STANDARD
BEGIN:DAYLIGHT
TZOFFSETFROM:+0100
TZOFFSETTO:+0200
TZNAME:CEST
DTSTART:20240331T010000
END:DAYLIGHT
BEGIN:STANDARD
TZOFFSETFROM:+0200
TZOFFSETTO:+0100
TZNAME:CET
DTSTART:20241027T010000
END:STANDARD
BEGIN:DAYLIGHT
TZOFFSETFROM:+0100
TZOFFSETTO:+0200
TZNAME:CEST
DTSTART:20250330T010000
END:DAYLIGHT
BEGIN:STANDARD
TZOFFSETFROM:+0200
TZOFFSETTO:+0100
TZNAME:CET
DTSTART:20251026T010000
END:STANDARD
END:VTIMEZONE
BEGIN:VEVENT
DTSTART;TZID=Europe/Rome:20241020T183000
DTEND;TZID=Europe/Rome:20241020T203000
DTSTAMP:20260423T124857
CREATED:20240823T160440Z
LAST-MODIFIED:20240823T160618Z
UID:10000045-1729449000-1729456200@www.marcostroppa.eu
SUMMARY:Amici della Musica di Firenze\, 2024 - Miniature estrose
DESCRIPTION:Da Miniature estrose – Primo Libro  \n\nPassacaglia canonica\nTangata Manu\nInnige Cavatina\nNinnananna\n\n\n\n\nOther works by Kurtág\, Beethoven\, Brahms \n  \nErik Bertsch\, piano \n  \n\n\n\n  \n\n\n\n\nSeries «Ritratti»: Marco Stroppa \nAmici della Musica di Firenze\, Florence
URL:https://www.marcostroppa.eu/event/amici-della-musica-di-firenze-2024-miniature-estrose-excerpts/
CATEGORIES:Concert
END:VEVENT
BEGIN:VEVENT
DTSTART;TZID=Europe/Rome:20241028T210000
DTEND;TZID=Europe/Rome:20241028T230000
DTSTAMP:20260423T124857
CREATED:20241002T174135Z
LAST-MODIFIED:20241002T174135Z
UID:10000048-1730149200-1730156400@www.marcostroppa.eu
SUMMARY:Teatro Elfo Puccini\, 2024 - Ay\, there’s the rub
DESCRIPTION:Ay\, there’s the rub\, for cello solo \n\n\n\nOther works by Alberto Posadas. \n  \nGiorgio Casati cello \nmdi ensemble \n\n\n\n\n\n\n  \n\n\n\n  \n\n\n\n\nSerie «Sound of Wander 2024: La tentazione delle ombre» \nTeatro Elfo Puccini\, Milan
URL:https://www.marcostroppa.eu/event/teatro-elfo-puccini-2024-ay-theres-the-rub/
CATEGORIES:Concert
END:VEVENT
END:VCALENDAR