BEGIN:VCALENDAR
VERSION:2.0
PRODID:-//Marco Stroppa - ECPv6.15.14//NONSGML v1.0//EN
CALSCALE:GREGORIAN
METHOD:PUBLISH
X-ORIGINAL-URL:https://www.marcostroppa.eu
X-WR-CALDESC:Events for Marco Stroppa
REFRESH-INTERVAL;VALUE=DURATION:PT1H
X-Robots-Tag:noindex
X-PUBLISHED-TTL:PT1H
BEGIN:VTIMEZONE
TZID:Europe/Rome
BEGIN:DAYLIGHT
TZOFFSETFROM:+0100
TZOFFSETTO:+0200
TZNAME:CEST
DTSTART:20230326T010000
END:DAYLIGHT
BEGIN:STANDARD
TZOFFSETFROM:+0200
TZOFFSETTO:+0100
TZNAME:CET
DTSTART:20231029T010000
END:STANDARD
BEGIN:DAYLIGHT
TZOFFSETFROM:+0100
TZOFFSETTO:+0200
TZNAME:CEST
DTSTART:20240331T010000
END:DAYLIGHT
BEGIN:STANDARD
TZOFFSETFROM:+0200
TZOFFSETTO:+0100
TZNAME:CET
DTSTART:20241027T010000
END:STANDARD
BEGIN:DAYLIGHT
TZOFFSETFROM:+0100
TZOFFSETTO:+0200
TZNAME:CEST
DTSTART:20250330T010000
END:DAYLIGHT
BEGIN:STANDARD
TZOFFSETFROM:+0200
TZOFFSETTO:+0100
TZNAME:CET
DTSTART:20251026T010000
END:STANDARD
END:VTIMEZONE
BEGIN:VEVENT
DTSTART;TZID=Europe/Rome:20240929T160000
DTEND;TZID=Europe/Rome:20240929T180000
DTSTAMP:20260423T140345
CREATED:20241002T175147Z
LAST-MODIFIED:20241002T175448Z
UID:10000049-1727625600-1727632800@www.marcostroppa.eu
SUMMARY:School of Design\, Kyushu University\, 2024 - Why Should You Run?
DESCRIPTION:Why Should You Run?\, for electroacoustic totem of 7 loudspeakers \n\n\n\nOther works by Max Mathews\, Jo Kondo\, Carlo Forlivesi\, Daryl Jamieson\, Jonathan Harvey. \n  \nCarlo Forlivesi\, electronic music and sound projection \n\n\n\n\n\n\n  \n\n\n\n  \n\n\n\n\nSerie «Music and the Non-Human Concert 4» \nRecording Studio of the Acoustic Research Center\, Ohashi Campus\, Kyushu University\, Fukuoka\, Japan
URL:https://www.marcostroppa.eu/event/school-of-design-kyushu-university-2024-why-should-you-run/
CATEGORIES:Concert
END:VEVENT
END:VCALENDAR