BEGIN:VCALENDAR
VERSION:2.0
PRODID:-//Marco Stroppa - ECPv6.15.14//NONSGML v1.0//EN
CALSCALE:GREGORIAN
METHOD:PUBLISH
X-ORIGINAL-URL:https://www.marcostroppa.eu
X-WR-CALDESC:Events for Marco Stroppa
REFRESH-INTERVAL;VALUE=DURATION:PT1H
X-Robots-Tag:noindex
X-PUBLISHED-TTL:PT1H
BEGIN:VTIMEZONE
TZID:Europe/Rome
BEGIN:DAYLIGHT
TZOFFSETFROM:+0100
TZOFFSETTO:+0200
TZNAME:CEST
DTSTART:20230326T010000
END:DAYLIGHT
BEGIN:STANDARD
TZOFFSETFROM:+0200
TZOFFSETTO:+0100
TZNAME:CET
DTSTART:20231029T010000
END:STANDARD
BEGIN:DAYLIGHT
TZOFFSETFROM:+0100
TZOFFSETTO:+0200
TZNAME:CEST
DTSTART:20240331T010000
END:DAYLIGHT
BEGIN:STANDARD
TZOFFSETFROM:+0200
TZOFFSETTO:+0100
TZNAME:CET
DTSTART:20241027T010000
END:STANDARD
BEGIN:DAYLIGHT
TZOFFSETFROM:+0100
TZOFFSETTO:+0200
TZNAME:CEST
DTSTART:20250330T010000
END:DAYLIGHT
BEGIN:STANDARD
TZOFFSETFROM:+0200
TZOFFSETTO:+0100
TZNAME:CET
DTSTART:20251026T010000
END:STANDARD
END:VTIMEZONE
BEGIN:VEVENT
DTSTART;TZID=Europe/Rome:20240811T170000
DTEND;TZID=Europe/Rome:20240811T190000
DTSTAMP:20260423T152809
CREATED:20240823T152833Z
LAST-MODIFIED:20250405T112428Z
UID:10000042-1723395600-1723402800@www.marcostroppa.eu
SUMMARY:Les Heures Musicales de Cunault 2024 - Tangata Manu
DESCRIPTION:From Miniature estrose – Primo libro \n\n\nTangata Manu \n\n\nOther works by Ravel\, Szymanowski\, Pesson\, Isaksson\, Schoeller \nMaroussia Gentet (piano) \n  \nLes Heures Musicales de Cunault \nÉglise Saint-Aubin de Trèves\, Gennes-Val-de-Loire \n 
URL:https://www.marcostroppa.eu/event/les-heures-musicales-de-cunault-2024-tangata-manu/
CATEGORIES:Concert
END:VEVENT
BEGIN:VEVENT
DTSTART;TZID=Europe/Rome:20240825T180000
DTEND;TZID=Europe/Rome:20240825T190000
DTSTAMP:20260423T152809
CREATED:20240823T155526Z
LAST-MODIFIED:20240823T155526Z
UID:10000044-1724608800-1724612400@www.marcostroppa.eu
SUMMARY:Festival "Drei in Eins: Musik Kunst Sprache” 2024 - Little i
DESCRIPTION:Little i\, for flute and chamber electronics  \n\n\n\nOther works by Osorio\, Saariaho. \n  \nKarolin Schmitt-Weidmann\, flute \nDaniel Osorio\, sound projection \nKatja Kottmann\, installation \nFranziska Trischler\, speech \n\n\n\n  \n\n\n\n\n  \nEvangelischer Stadtkirchenkreis\, Kassel
URL:https://www.marcostroppa.eu/event/festival-drei-in-eins-musik-kunst-sprache-2024-little-i/
CATEGORIES:Concert
END:VEVENT
END:VCALENDAR