BEGIN:VCALENDAR
VERSION:2.0
PRODID:-//Marco Stroppa - ECPv6.15.14//NONSGML v1.0//EN
CALSCALE:GREGORIAN
METHOD:PUBLISH
X-ORIGINAL-URL:https://www.marcostroppa.eu
X-WR-CALDESC:Events for Marco Stroppa
REFRESH-INTERVAL;VALUE=DURATION:PT1H
X-Robots-Tag:noindex
X-PUBLISHED-TTL:PT1H
BEGIN:VTIMEZONE
TZID:Europe/Rome
BEGIN:DAYLIGHT
TZOFFSETFROM:+0100
TZOFFSETTO:+0200
TZNAME:CEST
DTSTART:20230326T010000
END:DAYLIGHT
BEGIN:STANDARD
TZOFFSETFROM:+0200
TZOFFSETTO:+0100
TZNAME:CET
DTSTART:20231029T010000
END:STANDARD
BEGIN:DAYLIGHT
TZOFFSETFROM:+0100
TZOFFSETTO:+0200
TZNAME:CEST
DTSTART:20240331T010000
END:DAYLIGHT
BEGIN:STANDARD
TZOFFSETFROM:+0200
TZOFFSETTO:+0100
TZNAME:CET
DTSTART:20241027T010000
END:STANDARD
BEGIN:DAYLIGHT
TZOFFSETFROM:+0100
TZOFFSETTO:+0200
TZNAME:CEST
DTSTART:20250330T010000
END:DAYLIGHT
BEGIN:STANDARD
TZOFFSETFROM:+0200
TZOFFSETTO:+0100
TZNAME:CET
DTSTART:20251026T010000
END:STANDARD
END:VTIMEZONE
BEGIN:VEVENT
DTSTART;TZID=Europe/Rome:20240705T080000
DTEND;TZID=Europe/Rome:20240705T170000
DTSTAMP:20260423T164935
CREATED:20240414T123333Z
LAST-MODIFIED:20240414T123333Z
UID:10000040-1720166400-1720198800@www.marcostroppa.eu
SUMMARY:Festival ArteScienza 2024 - Goethe Institute
DESCRIPTION:Marco Stroppa\, Traiettoria…deviata (1982-1985) \nMarco Stroppa\, Dialoghi (1983-2011) \nLuigi Nono…sofferte onde serene… (1976) \n\nErik Bertsch\, piano\nMarco Stroppa\, sound projection \nGoethe Institut\, Rome
URL:https://www.marcostroppa.eu/event/festival-artescienza-2024-goethe-institute/
LOCATION:Goethe Institut\, Via Savoia\, 15\, Rome\, 00198
CATEGORIES:Concert
END:VEVENT
BEGIN:VEVENT
DTSTART;TZID=Europe/Rome:20240707T203000
DTEND;TZID=Europe/Rome:20240707T220000
DTSTAMP:20260423T164935
CREATED:20240414T120607Z
LAST-MODIFIED:20240414T120607Z
UID:10000037-1720384200-1720389600@www.marcostroppa.eu
SUMMARY:Festival «D’Aujord’hui à Demain» 2024 - Komboï
DESCRIPTION:Études multi-rythmiques (2024) pour percussions ad libitum \nNinon Hannecart-Ségal \nFlorent Jodelet \nManjunath B.C \nFestival «D’Aujourd’hui à Demain» 2024 \nThéâtre les Arts\, Cluny
URL:https://www.marcostroppa.eu/event/festival-cluny-2024-komboi/
LOCATION:Festival de Cluny\, Cluny\, France
CATEGORIES:Concert
END:VEVENT
BEGIN:VEVENT
DTSTART;VALUE=DATE:20240716
DTEND;VALUE=DATE:20240719
DTSTAMP:20260423T164935
CREATED:20240414T121326Z
LAST-MODIFIED:20240414T122033Z
UID:10000038-1721088000-1721347199@www.marcostroppa.eu
SUMMARY:Dimensions of Current Compositional Practice: Composers in Dialog with Musicologists
DESCRIPTION:Dimensions of Current Compositional Practice: Composers in Dialog with Musicologists\n16-18 July 2024 \nFondazione Giorgio Cini\, Venezia
URL:https://www.marcostroppa.eu/event/dimensions-of-current-compositional-practice-composers-in-dialog-with-musicologists/
LOCATION:Fondazione Giorgio Cini\, Isola di S. Giorgio\, Venice\, Italy
CATEGORIES:Concert,Seminar,Lecture
END:VEVENT
BEGIN:VEVENT
DTSTART;TZID=Europe/Rome:20240717T190000
DTEND;TZID=Europe/Rome:20240717T200000
DTSTAMP:20260423T164935
CREATED:20240414T121803Z
LAST-MODIFIED:20240414T122045Z
UID:10000039-1721242800-1721246400@www.marcostroppa.eu
SUMMARY:Hommage à Gy. K.\,  Ay\, there's the rub - Fondazione Cini
DESCRIPTION:Hommage à Gy. K. \nAy\, there’s the rub \nMDI Ensemble \nAuditorium «Lo Squero» Fondazione Giorgio Cini\, Venezia
URL:https://www.marcostroppa.eu/event/hommage-a-gy-k-ay-theres-the-rub-fondazione-cini/
LOCATION:Fondazione Giorgio Cini\, Isola di S. Giorgio\, Venice\, Italy
CATEGORIES:Concert
END:VEVENT
END:VCALENDAR