BEGIN:VCALENDAR
VERSION:2.0
PRODID:-//Marco Stroppa - ECPv6.15.14//NONSGML v1.0//EN
CALSCALE:GREGORIAN
METHOD:PUBLISH
X-ORIGINAL-URL:https://www.marcostroppa.eu
X-WR-CALDESC:Events for Marco Stroppa
REFRESH-INTERVAL;VALUE=DURATION:PT1H
X-Robots-Tag:noindex
X-PUBLISHED-TTL:PT1H
BEGIN:VTIMEZONE
TZID:Europe/Rome
BEGIN:DAYLIGHT
TZOFFSETFROM:+0100
TZOFFSETTO:+0200
TZNAME:CEST
DTSTART:20240331T010000
END:DAYLIGHT
BEGIN:STANDARD
TZOFFSETFROM:+0200
TZOFFSETTO:+0100
TZNAME:CET
DTSTART:20241027T010000
END:STANDARD
BEGIN:DAYLIGHT
TZOFFSETFROM:+0100
TZOFFSETTO:+0200
TZNAME:CEST
DTSTART:20250330T010000
END:DAYLIGHT
BEGIN:STANDARD
TZOFFSETFROM:+0200
TZOFFSETTO:+0100
TZNAME:CET
DTSTART:20251026T010000
END:STANDARD
BEGIN:DAYLIGHT
TZOFFSETFROM:+0100
TZOFFSETTO:+0200
TZNAME:CEST
DTSTART:20260329T010000
END:DAYLIGHT
BEGIN:STANDARD
TZOFFSETFROM:+0200
TZOFFSETTO:+0100
TZNAME:CET
DTSTART:20261025T010000
END:STANDARD
END:VTIMEZONE
BEGIN:VEVENT
DTSTART;VALUE=DATE:20250204
DTEND;VALUE=DATE:20250208
DTSTAMP:20260422T183124
CREATED:20250405T104716Z
LAST-MODIFIED:20250405T104716Z
UID:10000060-1738627200-1738972799@www.marcostroppa.eu
SUMMARY:6th Mauricio Kagel Composition Competition 2025
DESCRIPTION:6. Mauricio Kagel Kompositionswettbewerb\, 4.-7. Februar 2025 \nParticipation in the jury of the 6th Mauricio Kagel Composition Competition\, with Annesely Black\, Michael Jarrell\, Isabel Mundry\, Miroslav Srnka. \nThe results of the Competition are at the site link
URL:https://www.marcostroppa.eu/event/6th-mauricio-kagel-composition-competition-2025/
CATEGORIES:Competition
END:VEVENT
END:VCALENDAR